Workbook
Name CompanyNameCell: Settings!$B$4
Name CurrencyCode: Settings!$B$8
Name GraceMinutes: Settings!$B$24
Name HolidayOTMult: Settings!$B$30
Name MaxNormalHours: Settings!$B$25
Name MonthlyHoursDivisor: Settings!$B$33
Name NormalOTMult: Settings!$B$28
Name PayrollMonth: Settings!$B$11
Name PayrollYear: Settings!$B$12
Name PeriodEnd: Settings!$B$14
Name PeriodStart: Settings!$B$13
Name StdDaysWeek: Settings!$B$20
Name StdHoursDay: Settings!$B$18
Name UnpaidLeaveMethod: Settings!$B$35
Name WeekendOTMult: Settings!$B$29
Name WorkingDaysDivisor: Settings!$B$34

Sheet Dashboard
A1: MANAGEMENT DASHBOARD
A2: Payroll period: | B2: =TEXT(PeriodStart,"mmmm yyyy") -> September 2026
A4: Total Employees | C4: Active Employees | E4: Gross Payroll | G4: Total Deductions | I4: Net Payroll
A5: =COUNTIF(tblEmployees[Employee ID],"<>") -> 10 | C5: =COUNTIF(tblEmployees[Employment Status],"Active") -> 10 | E5: =SUM(tblPayroll[Gross Earnings]) -> 55363.822 | G5: =SUM(tblPayroll[Total Deductions])+SUM(tblPayroll[Unpaid Leave Deduction]) -> 2622.1767 | I5: =SUM(tblPayroll[Net Pay]) -> 52741.645
A7: Total Overtime + Weekend + Holiday Hours | C7: Overtime / Weekend / Holiday Cost | E7: Total Approved Leave Days (period) | G7: Attendance Exceptions | I7: Audit Status
A8: =SUM(tblPayroll[Overtime Hours])+SUM(tblPayroll[Weekend Hours])+SUM(tblPayroll[Holiday Hours]) -> 14.133333 | C8: =SUM(tblPayroll[Overtime Pay])+SUM(tblPayroll[Weekend Pay])+SUM(tblPayroll[Holiday Pay]) -> 563.82212 | E8: =SUMIFS(tblLeave[Number of Days],tblLeave[Approval Status],"Approved",tblLeave[Start Date],">="&PeriodStart,tblLeave[End Date],"<="&PeriodEnd) -> 6 | G8: =COUNTIF(tblAttendance[Attendance Status],"Missing Clock In")+COUNTIF(tblAttendance[Attendance Status],"Missing Clock Out")+COUNTIF(tblAttendance[Attendance Status],"Late Arrival")+COUNTIF(tblAttendance[Attendance Status],"Early Departure") -> 2 | I8: ='Checks & Audit'!B3 -> ⚠ REVIEW REQUIRED
A12: Deduction Breakdown (source data for chart)
A13: Deduction | B13: Total
A14: Social Insurance | B14: =SUM(tblPayroll[Social Insurance]) -> 1319
A15: Medical Insurance | B15: =SUM(tblPayroll[Medical Insurance]) -> 196
A16: Employee Welfare Fund | B16: =SUM(tblPayroll[Employee Welfare Fund]) -> 67.09976
A17: Pension | B17: =SUM(tblPayroll[Pension]) -> 417
A18: Loan Repayment | B18: =SUM(tblPayroll[Loan Repayment]) -> 150
A19: Salary Advance Recovery | B19: =SUM(tblPayroll[Salary Advance Recovery]) -> 0

Sheet Instructions
A1: INSTRUCTIONS — How to use this workbook
A3: This is a jurisdiction-neutral monthly payroll & timesheet template. It contains no statutory tax, social-security, or labor-law rules — every rate, multiplier, and deduction is configured by you in the Settings and Deductions sheets. Sheets marked SAMPLE DATA contain fictional example records; replace them with your own before running real payroll.
A5: Color Legend
B6: Blue = User Input
B7: Gray = Automatic Calculation
B8: Green = Valid / Approved
B9: Yellow = Warning
B10: Red = Error / Review Required
A13: 1. Configure Settings | B13: Open the Settings sheet and enter your company details, working hours, overtime multipliers, and salary-calculation method. Select the Payroll Month and Year you want to process.
A14: 2. Review Lists | B14: Check the Lists sheet and edit the dropdown options (departments, leave types, etc.) to match your organization.
A15: 3. Add employees | B15: Enter your employees in the Employees table. Employee ID must be unique — the Duplicate ID? column will flag repeats.
A16: 4. Configure deductions | B16: Define your deduction types (percentage or fixed) in the top table on the Deductions sheet.
A17: 5. Assign deductions to employees | B17: In the Employee Deduction Assignments table (also on the Deductions sheet), link each employee to the deductions that apply to them. Leave the override columns blank to use the default rate, or enter a value to override it for that employee.
A18: 6. Configure allowances & bonuses | B18: Enter one-off or recurring allowance and bonus amounts per employee and pay period on the Allowances & Bonuses sheet.
A19: 7. Add holidays | B19: List your public/company holidays on the Holidays sheet. Attendance automatically detects these dates.
A20: 8. Enter attendance | B20: Record daily clock-in/out times on the Attendance sheet. Employee Name and Department populate automatically. Overnight shifts (Clock Out earlier than Clock In) are handled automatically.
A21: 9. Enter leave | B21: Record leave requests on the Leave sheet, marking each as Paid or Unpaid and setting the Approval Status.
A22: 10. Select the payroll month | B22: Confirm the Payroll Month/Year on the Settings sheet — all reports recalculate for that period automatically.
A23: 11. Review Payroll | B23: Open the Payroll sheet to see the full calculation for every employee: earnings, hours, deductions, and net pay.
A24: 12. Review Checks & Audit | B24: Check the OVERALL STATUS on the Checks & Audit sheet before releasing payroll. Investigate any row marked REVIEW.
... A27: 15. Print / export reports | B27: Payroll Register, Timesheet Summary, Payroll Summary, and Employee Payslip are formatted for printing.
A29: Which cells should I edit?
A30: Edit the BLUE input cells and tables on: Settings, Employees, Attendance, Leave, Holidays, Deductions (both tables), Allowances & Bonuses. GRAY cells and all cells on Payroll, Payroll Register, Employee Payslip, Timesheet Summary, Payroll Summary, Dashboard, and Checks & Audit are automatic calculations — do not overwrite them.
A32: Adding more employees or records (scalability)
A33: All data sheets use native Excel Tables. To add a record, type into the row immediately below a table — Excel extends the table and copies formulas automatically. When you add a new employee, also add a corresponding row at the bottom of the Payroll table (and Timesheet Summary) so it is included in the calculations; the Employee ID formula will pick up the new employee automatically.
A35: Key assumptions in this template
A36: • Weekend days are Saturday and Sunday whenever Standard Working Days Per Week = 5 (edit the logic if your rest days differ).
A37: • Unpaid leave is valued using the method chosen in Settings (Working Days, Calendar Days, or Monthly Hours).
A38: • Hourly rate = Monthly Basic Salary / Monthly Hours Divisor (Settings).
A39: • All overtime multipliers, deduction rates, and allowance amounts are examples only — replace with your own.

Sheet Settings
A1: SETTINGS — Configure all payroll assumptions here
A3: Company Settings
A4: Company Name | B4: Company Name | C4: Displayed on payslips and reports.
A5: Address | B5: 18 Palm Business Park, Suite 400 | C5: Company mailing address.
A6: Phone | B6: +1 555 010 2200 | C6: Payroll contact phone.
A7: Email | B7: payroll@mohammed.example | C7: Payroll contact email.
A8: Currency | B8: SAR | C8: 3-letter currency code shown on reports (format label only).
A9: Payroll Administrator | B9: Dana Whitfield | C9: Name shown as report preparer.
A10: Payroll Frequency | B10: Monthly | C10: Fixed for this template — monthly payroll only.
A11: Payroll Month (1-12) | B11: 9 | C11: Select the month to process. All reports follow this selection.
A12: Payroll Year | B12: 2026 | C12: Select the year to process.
A13: Payroll Period Start | B13: =DATE(B12,B11,1) -> 46266 | C13: Calculated automatically from Month/Year above.
A14: Payroll Period End | B14: =EOMONTH(B13,0) -> 46295 | C14: Calculated automatically (last day of the selected month).
A15: Payment Date | B15: =EOMONTH(B13,1)-25 -> 46301 | C15: Date salaries are paid. Enter manually each period.
A17: Working Time Settings
A18: Standard Working Hours Per Day | B18: 8 | C18: Normal hours before overtime applies on a working day.
A19: Standard Working Hours Per Week | B19: 40 | C19: Reference figure only (not used to gate overtime in this template).
A20: Standard Working Days Per Week | B20: 5 | C20: Used to identify weekends (Sat/Sun treated as rest days when this is 5).
A21: Normal Start Time | B21: 08:00 | C21: Scheduled start used as default and for late-arrival checks.
A22: Normal End Time | B22: 17:00 | C22: Scheduled end used as default and for early-departure checks.
A23: Standard Break Duration (hours) | B23: 1 | C23: Default unpaid break length used when break times are blank.
A24: Grace Period for Late Arrival (minutes) | B24: 10 | C24: Minutes an employee may clock in after start time without being marked late.
A25: Maximum Normal Hours Per Day | B25: 8 | C25: Hours above this on a working day are treated as overtime.
A27: Overtime Settings (examples only — not statutory rates)
A28: Normal Overtime Multiplier | B28: 1.25 | C28: Example only. Applied to hourly rate for weekday overtime hours.
A29: Weekend Overtime Multiplier | B29: 1.5 | C29: Example only. Applied to hourly rate for hours worked on a rest day.
A30: Public Holiday Overtime Multiplier | B30: 2 | C30: Example only. Applied to hourly rate for hours worked on a public holiday.
A32: Salary Calculation Settings
A33: Monthly Hours Divisor (for hourly rate) | B33: 208 | C33: Hourly Rate = Monthly Basic Salary / this value. Example: 26 days x 8 hrs.
A34: Working Days Divisor (per month) | B34: 26 | C34: Used when the unpaid-leave method below is 'Working Days'.
A35: Unpaid Leave Calculation Method | B35: Working Days | C35: Choose the divisor basis used to value one day of unpaid leave.
A36: Rounding Method | B36: Normal Round | C36: How final pay amounts are rounded.
A37: Number of Decimal Places | B37: 2 | C37: Decimal places used when rounding pay amounts.
B40: Blue = User Input
B41: Gray = Automatic Calculation
B42: Green = Valid / Approved
B43: Yellow = Warning
B44: Red = Error / Review Required

Sheet Employees
A1: EMPLOYEES — Master employee list (blue cells = enter your own data)
A3: Employee ID | B3: Employee Name | C3: First Name | D3: Last Name | E3: Department | F3: Job Title | G3: Location | H3: Manager | I3: Employment Type | J3: Employment Status | K3: Date Joined | L3: Date Left | M3: Monthly Basic Salary | N3: Standard Hours Per Day | O3: Standard Hours Per Week | P3: Overtime Eligible? | Q3: Default Shift | R3: Notes | S3: Duplicate ID?
A4: E001 | B4: Amelia Carter | C4: Amelia | D4: Carter | E4: Sales | F4: Sales Associate | G4: Head Office | H4: Michael Reyes | I4: Full-Time | J4: Active | K4: 44621 | M4: 4200 | N4: 8 | O4: 40 | P4: Yes | Q4: Day | S4: =IF(COUNTIF($A$4:$A$13,A4)>1,"DUPLICATE","OK") -> OK
A5: E002 | B5: Brian Osei | C5: Brian | D5: Osei | E5: Operations | F5: Warehouse Supervisor | G5: Warehouse A | H5: Grace Njoroge | I5: Full-Time | J5: Active | K5: 44362 | M5: 5200 | N5: 8 | O5: 40 | P5: Yes | Q5: Day | S5: =IF(COUNTIF($A$4:$A$13,A5)>1,"DUPLICATE","OK") -> OK
A6: E003 | B6: Carla Mendes | C6: Carla | D6: Mendes | E6: Finance | F6: Accountant | G6: Head Office | H6: Dana Whitfield | I6: Full-Time | J6: Active | K6: 44936 | M6: 5600 | N6: 8 | O6: 40 | P6: No | Q6: Day | S6: =IF(COUNTIF($A$4:$A$13,A6)>1,"DUPLICATE","OK") -> OK
A7: E004 | B7: David Kim | C7: David | D7: Kim | E7: IT & Engineering | F7: Software Engineer | G7: Remote | H7: Priya Anand | I7: Full-Time | J7: Active | K7: 44075 | M7: 7800 | N7: 8 | O7: 40 | P7: Yes | Q7: Day | S7: =IF(COUNTIF($A$4:$A$13,A7)>1,"DUPLICATE","OK") -> OK
A8: E005 | B8: Elena Petrova | C8: Elena | D8: Petrova | E8: Sales | F8: Sales Associate | G8: Head Office | H8: Michael Reyes | I8: Full-Time | J8: Active | K8: 45066 | M8: 4100 | N8: 8 | O8: 40 | P8: Yes | Q8: Day | R8: On unpaid leave this period | S8: =IF(COUNTIF($A$4:$A$13,A8)>1,"DUPLICATE","OK") -> OK
A9: E006 | B9: Farhan Ali | C9: Farhan | D9: Ali | E9: Operations | F9: Forklift Operator | G9: Warehouse A | H9: Grace Njoroge | I9: Full-Time | J9: Active | K9: 44866 | M9: 3900 | N9: 8 | O9: 40 | P9: Yes | Q9: Night | R9: Regular night shift worker | S9: =IF(COUNTIF($A$4:$A$13,A9)>1,"DUPLICATE","OK") -> OK
A10: E007 | B10: Grace Njoroge | C10: Grace | D10: Njoroge | E10: Operations | F10: Warehouse Manager | G10: Warehouse A | H10: Dana Whitfield | I10: Full-Time | J10: Active | K10: 43511 | M10: 6500 | N10: 8 | O10: 40 | P10: No | Q10: Day | S10: =IF(COUNTIF($A$4:$A$13,A10)>1,"DUPLICATE","OK") -> OK
A11: E008 | B11: Hiro Tanaka | C11: Hiro | D11: Tanaka | E11: IT & Engineering | F11: IT Support Technician | G11: Head Office | H11: Priya Anand | I11: Full-Time | J11: Active | K11: 45139 | M11: 4700 | N11: 8 | O11: 40 | P11: Yes | Q11: Day | R11: Has fixed loan deduction | S11: =IF(COUNTIF($A$4:$A$13,A11)>1,"DUPLICATE","OK") -> OK
A12: E009 | B12: Isabella Rossi | C12: Isabella | D12: Rossi | E12: Human Resources | F12: HR Coordinator | G12: Head Office | H12: Dana Whitfield | I12: Full-Time | J12: Active | K12: 44566 | M12: 4500 | N12: 8 | O12: 40 | P12: No | Q12: Day | S12: =IF(COUNTIF($A$4:$A$13,A12)>1,"DUPLICATE","OK") -> OK
A13: E010 | B13: Jonah Baptiste | C13: Jonah | D13: Baptiste | E13: Finance | F13: Financial Analyst | G13: Head Office | H13: Dana Whitfield | I13: Full-Time | J13: Active | K13: 44298 | M13: 6100 | N13: 8 | O13: 40 | P13: Yes | Q13: Day | R13: Multiple deductions w/ % override | S13: =IF(COUNTIF($A$4:$A$13,A13)>1,"DUPLICATE","OK") -> OK

Sheet Attendance
A1: ATTENDANCE — Daily timesheet records (overnight shifts handled automatically)
A3: Date | B3: Employee ID | C3: Employee Name | D3: Department | E3: Shift | F3: Scheduled Start | G3: Scheduled End | H3: Clock In | I3: Clock Out | J3: Break Start | K3: Break End | L3: Break Hours | M3: Total Hours | N3: Regular Hours | O3: Overtime Hours | P3: Weekend Hours | Q3: Public Holiday Hours | R3: Late Minutes | S3: Early Departure Minutes | T3: Attendance Status | U3: Approval Status | V3: Notes
A4: 46266 | B4: E001 | C4: =IFERROR(INDEX(tblEmployees[Employee Name],MATCH(B4,tblEmployees[Employee ID],0)),"") -> Amelia Carter | D4: =IFERROR(INDEX(tblEmployees[Department],MATCH(B4,tblEmployees[Employee ID],0)),"") -> Sales | E4: Day | F4: 0.33333333 | G4: 0.70833333 | H4: 0.33194444 | I4: 0.70972222 | J4: 0.5 | K4: 0.54166667 | L4: =IF(AND(J4<>"",K4<>""),IF(K4>=J4,(K4-J4)*24,(K4+1-J4)*24),IF(AND(H4<>"",I4<>""),Settings!$B$23,0)) -> 1 | M4: =IF(OR(H4="",I4=""),"",IF(I4>=H4,(I4-H4)*24,(I4+1-H4)*24)) -> 9.0666667 | N4: =IF(M4="","",IF(COUNTIFS(tblHolidays[Holiday Date],A4)>0,0,IF(WEEKDAY(A4,2)>Settings!$B$20,0,MIN(MAX(M4-L4,0),Settings!$B$25)))) -> 8 | O4: =IF(M4="","",IF(COUNTIFS(tblHolidays[Holiday Date],A4)>0,0,IF(WEEKDAY(A4,2)>Settings!$B$20,0,MAX(MAX(M4-L4,0)-Settings!$B$25,0)))) -> 0.066666667 | P4: =IF(M4="","",IF(COUNTIFS(tblHolidays[Holiday Date],A4)>0,0,IF(WEEKDAY(A4,2)>Settings!$B$20,MAX(M4-L4,0),0))) -> 0 | Q4: =IF(M4="","",IF(COUNTIFS(tblHolidays[Holiday Date],A4)>0,MAX(M4-L4,0),0)) -> 0 | R4: =IF(OR(H4="",F4=""),0,MAX((H4-F4)*1440-Settings!$B$24,0)) -> 0 | S4: =IF(OR(I4="",G4=""),0,MAX((G4-I4)*1440,0)) -> 0 | T4: =IF(B4="","",IF(H4="","Missing Clock In",IF(I4="","Missing Clock Out",IF(COUNTIFS(tblHolidays[Holiday Date],A4)>0,"Holiday Worked",IF(WEEKDAY(A4,2)>Settings!$B$20,"Weekend Worked",IF(R4>0,"Late Arrival",IF(S4>0,"Early Departure","Present"))))))) -> Present | U4: Approved | V4: SAMPLE DATA
A5: 46266 | B5: E001 | C5: =IFERROR(INDEX(tblEmployees[Employee Name],MATCH(B5,tblEmployees[Employee ID],0)),"") -> Amelia Carter | D5: =IFERROR(INDEX(tblEmployees[Department],MATCH(B5,tblEmployees[Employee ID],0)),"") -> Sales | E5: Day | F5: 0.33333333 | G5: 0.70833333 | H5: 0.33194444 | I5: 0.70972222 | J5: 0.5 | K5: 0.54166667 | L5: =IF(AND(J5<>"",K5<>""),IF(K5>=J5,(K5-J5)*24,(K5+1-J5)*24),IF(AND(H5<>"",I5<>""),Settings!$B$23,0)) -> 1 | M5: =IF(OR(H5="",I5=""),"",IF(I5>=H5,(I5-H5)*24,(I5+1-H5)*24)) -> 9.0666667 | N5: =IF(M5="","",IF(COUNTIFS(tblHolidays[Holiday Date],A5)>0,0,IF(WEEKDAY(A5,2)>Settings!$B$20,0,MIN(MAX(M5-L5,0),Settings!$B$25)))) -> 8 | O5: =IF(M5="","",IF(COUNTIFS(tblHolidays[Holiday Date],A5)>0,0,IF(WEEKDAY(A5,2)>Settings!$B$20,0,MAX(MAX(M5-L5,0)-Settings!$B$25,0)))) -> 0.066666667 | P5: =IF(M5="","",IF(COUNTIFS(tblHolidays[Holiday Date],A5)>0,0,IF(WEEKDAY(A5,2)>Settings!$B$20,MAX(M5-L5,0),0))) -> 0 | Q5: =IF(M5="","",IF(COUNTIFS(tblHolidays[Holiday Date],A5)>0,MAX(M5-L5,0),0)) -> 0 | R5: =IF(OR(H5="",F5=""),0,MAX((H5-F5)*1440-Settings!$B$24,0)) -> 0 | S5: =IF(OR(I5="",G5=""),0,MAX((G5-I5)*1440,0)) -> 0 | T5: =IF(B5="","",IF(H5="","Missing Clock In",IF(I5="","Missing Clock Out",IF(COUNTIFS(tblHolidays[Holiday Date],A5)>0,"Holiday Worked",IF(WEEKDAY(A5,2)>Settings!$B$20,"Weekend Worked",IF(R5>0,"Late Arrival",IF(S5>0,"Early Departure","Present"))))))) -> Present | U5: Approved | V5: SAMPLE DATA — duplicate record (intentional error for Audit demo)
A6: 46267 | B6: E001 | C6: =IFERROR(INDEX(tblEmployees[Employee Name],MATCH(B6,tblEmployees[Employee ID],0)),"") -> Amelia Carter | D6: =IFERROR(INDEX(tblEmployees[Department],MATCH(B6,tblEmployees[Employee ID],0)),"") -> Sales | E6: Day | F6: 0.33333333 | G6: 0.70833333 | H6: 0.33402778 | I6: 0.70833333 | J6: 0.5 | K6: 0.54166667 | L6: =IF(AND(J6<>"",K6<>""),IF(K6>=J6,(K6-J6)*24,(K6+1-J6)*24),IF(AND(H6<>"",I6<>""),Settings!$B$23,0)) -> 1 | M6: =IF(OR(H6="",I6=""),"",IF(I6>=H6,(I6-H6)*24,(I6+1-H6)*24)) -> 8.9833333 | N6: =IF(M6="","",IF(COUNTIFS(tblHolidays[Holiday Date],A6)>0,0,IF(WEEKDAY(A6,2)>Settings!$B$20,0,MIN(MAX(M6-L6,0),Settings!$B$25)))) -> 7.9833333 | O6: =IF(M6="","",IF(COUNTIFS(tblHolidays[Holiday Date],A6)>0,0,IF(WEEKDAY(A6,2)>Settings!$B$20,0,MAX(MAX(M6-L6,0)-Settings!$B$25,0)))) -> 0 | P6: =IF(M6="","",IF(COUNTIFS(tblHolidays[Holiday Date],A6)>0,0,IF(WEEKDAY(A6,2)>Settings!$B$20,MAX(M6-L6,0),0))) -> 0 | Q6: =IF(M6="","",IF(COUNTIFS(tblHolidays[Holiday Date],A6)>0,MAX(M6-L6,0),0)) -> 0 | R6: =IF(OR(H6="",F6=""),0,MAX((H6-F6)*1440-Settings!$B$24,0)) -> 0 | S6: =IF(OR(I6="",G6=""),0,MAX((G6-I6)*1440,0)) -> 0 | T6: =IF(B6="","",IF(H6="","Missing Clock In",IF(I6="","Missing Clock Out",IF(COUNTIFS(tblHolidays[Holiday Date],A6)>0,"Holiday Worked",IF(WEEKDAY(A6,2)>Settings!$B$20,"Weekend Worked",IF(R6>0,"Late Arrival",IF(S6>0,"Early Departure","Present"))))))) -> Present | U6: Approved | V6: SAMPLE DATA
A7: 46268 | B7: E001 | C7: =IFERROR(INDEX(tblEmployees[Employee Name],MATCH(B7,tblEmployees[Employee ID],0)),"") -> Amelia Carter | D7: =IFERROR(INDEX(tblEmployees[Department],MATCH(B7,tblEmployees[Employee ID],0)),"") -> Sales | E7: Day | F7: 0.33333333 | G7: 0.70833333 | H7: 0.34722222 | I7: 0.70833333 | J7: 0.5 | K7: 0.54166667 | L7: =IF(AND(J7<>"",K7<>""),IF(K7>=J7,(K7-J7)*24,(K7+1-J7)*24),IF(AND(H7<>"",I7<>""),Settings!$B$23,0)) -> 1 | M7: =IF(OR(H7="",I7=""),"",IF(I7>=H7,(I7-H7)*24,(I7+1-H7)*24)) -> 8.6666667 | N7: =IF(M7="","",IF(COUNTIFS(tblHolidays[Holiday Date],A7)>0,0,IF(WEEKDAY(A7,2)>Settings!$B$20,0,MIN(MAX(M7-L7,0),Settings!$B$25)))) -> 7.6666667 | O7: =IF(M7="","",IF(COUNTIFS(tblHolidays[Holiday Date],A7)>0,0,IF(WEEKDAY(A7,2)>Settings!$B$20,0,MAX(MAX(M7-L7,0)-Settings!$B$25,0)))) -> 0 | P7: =IF(M7="","",IF(COUNTIFS(tblHolidays[Holiday Date],A7)>0,0,IF(WEEKDAY(A7,2)>Settings!$B$20,MAX(M7-L7,0),0))) -> 0 | Q7: =IF(M7="","",IF(COUNTIFS(tblHolidays[Holiday Date],A7)>0,MAX(M7-L7,0),0)) -> 0 | R7: =IF(OR(H7="",F7=""),0,MAX((H7-F7)*1440-Settings!$B$24,0)) -> 10 | S7: =IF(OR(I7="",G7=""),0,MAX((G7-I7)*1440,0)) -> 0 | T7: =IF(B7="","",IF(H7="","Missing Clock In",IF(I7="","Missing Clock Out",IF(COUNTIFS(tblHolidays[Holiday Date],A7)>0,"Holiday Worked",IF(WEEKDAY(A7,2)>Settings!$B$20,"Weekend Worked",IF(R7>0,"Late Arrival",IF(S7>0,"Early Departure","Present"))))))) -> Late Arrival | U7: Approved | V7: SAMPLE DATA — late arrival
A8: 46269 | B8: E001 | C8: =IFERROR(INDEX(tblEmployees[Employee Name],MATCH(B8,tblEmployees[Employee ID],0)),"") -> Amelia Carter | D8: =IFERROR(INDEX(tblEmployees[Department],MATCH(B8,tblEmployees[Employee ID],0)),"") -> Sales | E8: Day | F8: 0.33333333 | G8: 0.70833333 | H8: 0.33333333 | I8: 0.79166667 | J8: 0.5 | K8: 0.54166667 | L8: =IF(AND(J8<>"",K8<>""),IF(K8>=J8,(K8-J8)*24,(K8+1-J8)*24),IF(AND(H8<>"",I8<>""),Settings!$B$23,0)) -> 1 | M8: =IF(OR(H8="",I8=""),"",IF(I8>=H8,(I8-H8)*24,(I8+1-H8)*24)) -> 11 | N8: =IF(M8="","",IF(COUNTIFS(tblHolidays[Holiday Date],A8)>0,0,IF(WEEKDAY(A8,2)>Settings!$B$20,0,MIN(MAX(M8-L8,0),Settings!$B$25)))) -> 8 | O8: =IF(M8="","",IF(COUNTIFS(tblHolidays[Holiday Date],A8)>0,0,IF(WEEKDAY(A8,2)>Settings!$B$20,0,MAX(MAX(M8-L8,0)-Settings!$B$25,0)))) -> 2 | P8: =IF(M8="","",IF(COUNTIFS(tblHolidays[Holiday Date],A8)>0,0,IF(WEEKDAY(A8,2)>Settings!$B$20,MAX(M8-L8,0),0))) -> 0 | Q8: =IF(M8="","",IF(COUNTIFS(tblHolidays[Holiday Date],A8)>0,MAX(M8-L8,0),0)) -> 0 | R8: =IF(OR(H8="",F8=""),0,MAX((H8-F8)*1440-Settings!$B$24,0)) -> 0 | S8: =IF(OR(I8="",G8=""),0,MAX((G8-I8)*1440,0)) -> 0 | T8: =IF(B8="","",IF(H8="","Missing Clock In",IF(I8="","Missing Clock Out",IF(COUNTIFS(tblHolidays[Holiday Date],A8)>0,"Holiday Worked",IF(WEEKDAY(A8,2)>Settings!$B$20,"Weekend Worked",IF(R8>0,"Late Arrival",IF(S8>0,"Early Departure","Present"))))))) -> Present | U8: Approved | V8: SAMPLE DATA — overtime
A9: 46266 | B9: E002 | C9: =IFERROR(INDEX(tblEmployees[Employee Name],MATCH(B9,tblEmployees[Employee ID],0)),"") -> Brian Osei | D9: =IFERROR(INDEX(tblEmployees[Department],MATCH(B9,tblEmployees[Employee ID],0)),"") -> Operations | E9: Day | F9: 0.33333333 | G9: 0.70833333 | H9: 0.33333333 | I9: 0.70833333 | J9: 0.5 | K9: 0.54166667 | L9: =IF(AND(J9<>"",K9<>""),IF(K9>=J9,(K9-J9)*24,(K9+1-J9)*24),IF(AND(H9<>"",I9<>""),Settings!$B$23,0)) -> 1 | M9: =IF(OR(H9="",I9=""),"",IF(I9>=H9,(I9-H9)*24,(I9+1-H9)*24)) -> 9 | N9: =IF(M9="","",IF(COUNTIFS(tblHolidays[Holiday Date],A9)>0,0,IF(WEEKDAY(A9,2)>Settings!$B$20,0,MIN(MAX(M9-L9,0),Settings!$B$25)))) -> 8 | O9: =IF(M9="","",IF(COUNTIFS(tblHolidays[Holiday Date],A9)>0,0,IF(WEEKDAY(A9,2)>Settings!$B$20,0,MAX(MAX(M9-L9,0)-Settings!$B$25,0)))) -> 0 | P9: =IF(M9="","",IF(COUNTIFS(tblHolidays[Holiday Date],A9)>0,0,IF(WEEKDAY(A9,2)>Settings!$B$20,MAX(M9-L9,0),0))) -> 0 | Q9: =IF(M9="","",IF(COUNTIFS(tblHolidays[Holiday Date],A9)>0,MAX(M9-L9,0),0)) -> 0 | R9: =IF(OR(H9="",F9=""),0,MAX((H9-F9)*1440-Settings!$B$24,0)) -> 0 | S9: =IF(OR(I9="",G9=""),0,MAX((G9-I9)*1440,0)) -> 0 | T9: =IF(B9="","",IF(H9="","Missing Clock In",IF(I9="","Missing Clock Out",IF(COUNTIFS(tblHolidays[Holiday Date],A9)>0,"Holiday Worked",IF(WEEKDAY(A9,2)>Settings!$B$20,"Weekend Worked",IF(R9>0,"Late Arrival",IF(S9>0,"Early Departure","Present"))))))) -> Present | U9: Approved | V9: SAMPLE DATA
A10: 46267 | B10: E002 | C10: =IFERROR(INDEX(tblEmployees[Employee Name],MATCH(B10,tblEmployees[Employee ID],0)),"") -> Brian Osei | D10: =IFERROR(INDEX(tblEmployees[Department],MATCH(B10,tblEmployees[Employee ID],0)),"") -> Operations | E10: Day | F10: 0.33333333 | G10: 0.70833333 | H10: 0.33333333 | I10: 0.70833333 | J10: 0.5 | K10: 0.54166667 | L10: =IF(AND(J10<>"",K10<>""),IF(K10>=J10,(K10-J10)*24,(K10+1-J10)*24),IF(AND(H10<>"",I10<>""),Settings!$B$23,0)) -> 1 | M10: =IF(OR(H10="",I10=""),"",IF(I10>=H10,(I10-H10)*24,(I10+1-H10)*24)) -> 9 | N10: =IF(M10="","",IF(COUNTIFS(tblHolidays[Holiday Date],A10)>0,0,IF(WEEKDAY(A10,2)>Settings!$B$20,0,MIN(MAX(M10-L10,0),Settings!$B$25)))) -> 8 | O10: =IF(M10="","",IF(COUNTIFS(tblHolidays[Holiday Date],A10)>0,0,IF(WEEKDAY(A10,2)>Settings!$B$20,0,MAX(MAX(M10-L10,0)-Settings!$B$25,0)))) -> 0 | P10: =IF(M10="","",IF(COUNTIFS(tblHolidays[Holiday Date],A10)>0,0,IF(WEEKDAY(A10,2)>Settings!$B$20,MAX(M10-L10,0),0))) -> 0 | Q10: =IF(M10="","",IF(COUNTIFS(tblHolidays[Holiday Date],A10)>0,MAX(M10-L10,0),0)) -> 0 | R10: =IF(OR(H10="",F10=""),0,MAX((H10-F10)*1440-Settings!$B$24,0)) -> 0 | S10: =IF(OR(I10="",G10=""),0,MAX((G10-I10)*1440,0)) -> 0 | T10: =IF(B10="","",IF(H10="","Missing Clock In",IF(I10="","Missing Clock Out",IF(COUNTIFS(tblHolidays[Holiday Date],A10)>0,"Holiday Worked",IF(WEEKDAY(A10,2)>Settings!$B$20,"Weekend Worked",IF(R10>0,"Late Arrival",IF(S10>0,"Early Departure","Present"))))))) -> Present | U10: Approved | V10: SAMPLE DATA
A11: 46272 | B11: E002 | C11: =IFERROR(INDEX(tblEmployees[Employee Name],MATCH(B11,tblEmployees[Employee ID],0)),"") -> Brian Osei | D11: =IFERROR(INDEX(tblEmployees[Department],MATCH(B11,tblEmployees[Employee ID],0)),"") -> Operations | E11: Day | F11: 0.33333333 | G11: 0.70833333 | H11: 0.33333333 | I11: 0.58333333 | L11: =IF(AND(J11<>"",K11<>""),IF(K11>=J11,(K11-J11)*24,(K11+1-J11)*24),IF(AND(H11<>"",I11<>""),Settings!$B$23,0)) -> 1 | M11: =IF(OR(H11="",I11=""),"",IF(I11>=H11,(I11-H11)*24,(I11+1-H11)*24)) -> 6 | N11: =IF(M11="","",IF(COUNTIFS(tblHolidays[Holiday Date],A11)>0,0,IF(WEEKDAY(A11,2)>Settings!$B$20,0,MIN(MAX(M11-L11,0),Settings!$B$25)))) -> 0 | O11: =IF(M11="","",IF(COUNTIFS(tblHolidays[Holiday Date],A11)>0,0,IF(WEEKDAY(A11,2)>Settings!$B$20,0,MAX(MAX(M11-L11,0)-Settings!$B$25,0)))) -> 0 | P11: =IF(M11="","",IF(COUNTIFS(tblHolidays[Holiday Date],A11)>0,0,IF(WEEKDAY(A11,2)>Settings!$B$20,MAX(M11-L11,0),0))) -> 0 | Q11: =IF(M11="","",IF(COUNTIFS(tblHolidays[Holiday Date],A11)>0,MAX(M11-L11,0),0)) -> 5 | R11: =IF(OR(H11="",F11=""),0,MAX((H11-F11)*1440-Settings!$B$24,0)) -> 0 | S11: =IF(OR(I11="",G11=""),0,MAX((G11-I11)*1440,0)) -> 180 | T11: =IF(B11="","",IF(H11="","Missing Clock In",IF(I11="","Missing Clock Out",IF(COUNTIFS(tblHolidays[Holiday Date],A11)>0,"Holiday Worked",IF(WEEKDAY(A11,2)>Settings!$B$20,"Weekend Worked",IF(R11>0,"Late Arrival",IF(S11>0,"Early Departure","Present"))))))) -> Holiday Worked | U11: Approved | V11: SAMPLE DATA — worked on public holiday (Labor Day)
A12: 46277 | B12: E002 | C12: =IFERROR(INDEX(tblEmployees[Employee Name],MATCH(B12,tblEmployees[Employee ID],0)),"") -> Brian Osei | D12: =IFERROR(INDEX(tblEmployees[Department],MATCH(B12,tblEmployees[Employee ID],0)),"") -> Operations | E12: Day | F12: 0.33333333 | G12: 0.70833333 | H12: 0.33333333 | I12: 0.54166667 | L12: =IF(AND(J12<>"",K12<>""),IF(K12>=J12,(K12-J12)*24,(K12+1-J12)*24),IF(AND(H12<>"",I12<>""),Settings!$B$23,0)) -> 1 | M12: =IF(OR(H12="",I12=""),"",IF(I12>=H12,(I12-H12)*24,(I12+1-H12)*24)) -> 5 | N12: =IF(M12="","",IF(COUNTIFS(tblHolidays[Holiday Date],A12)>0,0,IF(WEEKDAY(A12,2)>Settings!$B$20,0,MIN(MAX(M12-L12,0),Settings!$B$25)))) -> 0 | O12: =IF(M12="","",IF(COUNTIFS(tblHolidays[Holiday Date],A12)>0,0,IF(WEEKDAY(A12,2)>Settings!$B$20,0,MAX(MAX(M12-L12,0)-Settings!$B$25,0)))) -> 0 | P12: =IF(M12="","",IF(COUNTIFS(tblHolidays[Holiday Date],A12)>0,0,IF(WEEKDAY(A12,2)>Settings!$B$20,MAX(M12-L12,0),0))) -> 4 | Q12: =IF(M12="","",IF(COUNTIFS(tblHolidays[Holiday Date],A12)>0,MAX(M12-L12,0),0)) -> 0 | R12: =IF(OR(H12="",F12=""),0,MAX((H12-F12)*1440-Settings!$B$24,0)) -> 0 | S12: =IF(OR(I12="",G12=""),0,MAX((G12-I12)*1440,0)) -> 240 | T12: =IF(B12="","",IF(H12="","Missing Clock In",IF(I12="","Missing Clock Out",IF(COUNTIFS(tblHolidays[Holiday Date],A12)>0,"Holiday Worked",IF(WEEKDAY(A12,2)>Settings!$B$20,"Weekend Worked",IF(R12>0,"Late Arrival",IF(S12>0,"Early Departure","Present"))))))) -> Weekend Worked | U12: Approved | V12: SAMPLE DATA — worked on Saturday (weekend)
A13: 46266 | B13: E003 | C13: =IFERROR(INDEX(tblEmployees[Employee Name],MATCH(B13,tblEmployees[Employee ID],0)),"") -> Carla Mendes | D13: =IFERROR(INDEX(tblEmployees[Department],MATCH(B13,tblEmployees[Employee ID],0)),"") -> Finance | E13: Day | F13: 0.33333333 | G13: 0.70833333 | H13: 0.33333333 | I13: 0.70833333 | J13: 0.5 | K13: 0.54166667 | L13: =IF(AND(J13<>"",K13<>""),IF(K13>=J13,(K13-J13)*24,(K13+1-J13)*24),IF(AND(H13<>"",I13<>""),Settings!$B$23,0)) -> 1 | M13: =IF(OR(H13="",I13=""),"",IF(I13>=H13,(I13-H13)*24,(I13+1-H13)*24)) -> 9 | N13: =IF(M13="","",IF(COUNTIFS(tblHolidays[Holiday Date],A13)>0,0,IF(WEEKDAY(A13,2)>Settings!$B$20,0,MIN(MAX(M13-L13,0),Settings!$B$25)))) -> 8 | O13: =IF(M13="","",IF(COUNTIFS(tblHolidays[Holiday Date],A13)>0,0,IF(WEEKDAY(A13,2)>Settings!$B$20,0,MAX(MAX(M13-L13,0)-Settings!$B$25,0)))) -> 0 | P13: =IF(M13="","",IF(COUNTIFS(tblHolidays[Holiday Date],A13)>0,0,IF(WEEKDAY(A13,2)>Settings!$B$20,MAX(M13-L13,0),0))) -> 0 | Q13: =IF(M13="","",IF(COUNTIFS(tblHolidays[Holiday Date],A13)>0,MAX(M13-L13,0),0)) -> 0 | R13: =IF(OR(H13="",F13=""),0,MAX((H13-F13)*1440-Settings!$B$24,0)) -> 0 | S13: =IF(OR(I13="",G13=""),0,MAX((G13-I13)*1440,0)) -> 0 | T13: =IF(B13="","",IF(H13="","Missing Clock In",IF(I13="","Missing Clock Out",IF(COUNTIFS(tblHolidays[Holiday Date],A13)>0,"Holiday Worked",IF(WEEKDAY(A13,2)>Settings!$B$20,"Weekend Worked",IF(R13>0,"Late Arrival",IF(S13>0,"Early Departure","Present"))))))) -> Present | U13: Approved | V13: SAMPLE DATA
A14: 46267 | B14: E003 | C14: =IFERROR(INDEX(tblEmployees[Employee Name],MATCH(B14,tblEmployees[Employee ID],0)),"") -> Carla Mendes | D14: =IFERROR(INDEX(tblEmployees[Department],MATCH(B14,tblEmployees[Employee ID],0)),"") -> Finance | E14: Day | F14: 0.33333333 | G14: 0.70833333 | H14: 0.33333333 | I14: 0.70833333 | J14: 0.5 | K14: 0.54166667 | L14: =IF(AND(J14<>"",K14<>""),IF(K14>=J14,(K14-J14)*24,(K14+1-J14)*24),IF(AND(H14<>"",I14<>""),Settings!$B$23,0)) -> 1 | M14: =IF(OR(H14="",I14=""),"",IF(I14>=H14,(I14-H14)*24,(I14+1-H14)*24)) -> 9 | N14: =IF(M14="","",IF(COUNTIFS(tblHolidays[Holiday Date],A14)>0,0,IF(WEEKDAY(A14,2)>Settings!$B$20,0,MIN(MAX(M14-L14,0),Settings!$B$25)))) -> 8 | O14: =IF(M14="","",IF(COUNTIFS(tblHolidays[Holiday Date],A14)>0,0,IF(WEEKDAY(A14,2)>Settings!$B$20,0,MAX(MAX(M14-L14,0)-Settings!$B$25,0)))) -> 0 | P14: =IF(M14="","",IF(COUNTIFS(tblHolidays[Holiday Date],A14)>0,0,IF(WEEKDAY(A14,2)>Settings!$B$20,MAX(M14-L14,0),0))) -> 0 | Q14: =IF(M14="","",IF(COUNTIFS(tblHolidays[Holiday Date],A14)>0,MAX(M14-L14,0),0)) -> 0 | R14: =IF(OR(H14="",F14=""),0,MAX((H14-F14)*1440-Settings!$B$24,0)) -> 0 | S14: =IF(OR(I14="",G14=""),0,MAX((G14-I14)*1440,0)) -> 0 | T14: =IF(B14="","",IF(H14="","Missing Clock In",IF(I14="","Missing Clock Out",IF(COUNTIFS(tblHolidays[Holiday Date],A14)>0,"Holiday Worked",IF(WEEKDAY(A14,2)>Settings!$B$20,"Weekend Worked",IF(R14>0,"Late Arrival",IF(S14>0,"Early Departure","Present"))))))) -> Present | U14: Approved | V14: SAMPLE DATA
A15: 46268 | B15: E003 | C15: =IFERROR(INDEX(tblEmployees[Employee Name],MATCH(B15,tblEmployees[Employee ID],0)),"") -> Carla Mendes | D15: =IFERROR(INDEX(tblEmployees[Department],MATCH(B15,tblEmployees[Employee ID],0)),"") -> Finance | E15: Day | F15: 0.33333333 | G15: 0.70833333 | H15: 0.33333333 | I15: 0.70833333 | J15: 0.5 | K15: 0.54166667 | L15: =IF(AND(J15<>"",K15<>""),IF(K15>=J15,(K15-J15)*24,(K15+1-J15)*24),IF(AND(H15<>"",I15<>""),Settings!$B$23,0)) -> 1 | M15: =IF(OR(H15="",I15=""),"",IF(I15>=H15,(I15-H15)*24,(I15+1-H15)*24)) -> 9 | N15: =IF(M15="","",IF(COUNTIFS(tblHolidays[Holiday Date],A15)>0,0,IF(WEEKDAY(A15,2)>Settings!$B$20,0,MIN(MAX(M15-L15,0),Settings!$B$25)))) -> 8 | O15: =IF(M15="","",IF(COUNTIFS(tblHolidays[Holiday Date],A15)>0,0,IF(WEEKDAY(A15,2)>Settings!$B$20,0,MAX(MAX(M15-L15,0)-Settings!$B$25,0)))) -> 0 | P15: =IF(M15="","",IF(COUNTIFS(tblHolidays[Holiday Date],A15)>0,0,IF(WEEKDAY(A15,2)>Settings!$B$20,MAX(M15-L15,0),0))) -> 0 | Q15: =IF(M15="","",IF(COUNTIFS(tblHolidays[Holiday Date],A15)>0,MAX(M15-L15,0),0)) -> 0 | R15: =IF(OR(H15="",F15=""),0,MAX((H15-F15)*1440-Settings!$B$24,0)) -> 0 | S15: =IF(OR(I15="",G15=""),0,MAX((G15-I15)*1440,0)) -> 0 | T15: =IF(B15="","",IF(H15="","Missing Clock In",IF(I15="","Missing Clock Out",IF(COUNTIFS(tblHolidays[Holiday Date],A15)>0,"Holiday Worked",IF(WEEKDAY(A15,2)>Settings!$B$20,"Weekend Worked",IF(R15>0,"Late Arrival",IF(S15>0,"Early Departure","Present"))))))) -> Present | U15: Approved | V15: SAMPLE DATA
A16: 46266 | B16: E004 | C16: =IFERROR(INDEX(tblEmployees[Employee Name],MATCH(B16,tblEmployees[Employee ID],0)),"") -> David Kim | D16: =IFERROR(INDEX(tblEmployees[Department],MATCH(B16,tblEmployees[Employee ID],0)),"") -> IT & Engineering | E16: Day | F16: 0.33333333 | G16: 0.70833333 | H16: 0.33333333 | I16: 0.70833333 | J16: 0.5 | K16: 0.54166667 | L16: =IF(AND(J16<>"",K16<>""),IF(K16>=J16,(K16-J16)*24,(K16+1-J16)*24),IF(AND(H16<>"",I16<>""),Settings!$B$23,0)) -> 1 | M16: =IF(OR(H16="",I16=""),"",IF(I16>=H16,(I16-H16)*24,(I16+1-H16)*24)) -> 9 | N16: =IF(M16="","",IF(COUNTIFS(tblHolidays[Holiday Date],A16)>0,0,IF(WEEKDAY(A16,2)>Settings!$B$20,0,MIN(MAX(M16-L16,0),Settings!$B$25)))) -> 8 | O16: =IF(M16="","",IF(COUNTIFS(tblHolidays[Holiday Date],A16)>0,0,IF(WEEKDAY(A16,2)>Settings!$B$20,0,MAX(MAX(M16-L16,0)-Settings!$B$25,0)))) -> 0 | P16: =IF(M16="","",IF(COUNTIFS(tblHolidays[Holiday Date],A16)>0,0,IF(WEEKDAY(A16,2)>Settings!$B$20,MAX(M16-L16,0),0))) -> 0 | Q16: =IF(M16="","",IF(COUNTIFS(tblHolidays[Holiday Date],A16)>0,MAX(M16-L16,0),0)) -> 0 | R16: =IF(OR(H16="",F16=""),0,MAX((H16-F16)*1440-Settings!$B$24,0)) -> 0 | S16: =IF(OR(I16="",G16=""),0,MAX((G16-I16)*1440,0)) -> 0 | T16: =IF(B16="","",IF(H16="","Missing Clock In",IF(I16="","Missing Clock Out",IF(COUNTIFS(tblHolidays[Holiday Date],A16)>0,"Holiday Worked",IF(WEEKDAY(A16,2)>Settings!$B$20,"Weekend Worked",IF(R16>0,"Late Arrival",IF(S16>0,"Early Departure","Present"))))))) -> Present | U16: Approved | V16: SAMPLE DATA
A17: 46267 | B17: E004 | C17: =IFERROR(INDEX(tblEmployees[Employee Name],MATCH(B17,tblEmployees[Employee ID],0)),"") -> David Kim | D17: =IFERROR(INDEX(tblEmployees[Department],MATCH(B17,tblEmployees[Employee ID],0)),"") -> IT & Engineering | E17: Day | F17: 0.33333333 | G17: 0.70833333 | H17: 0.33333333 | J17: 0.5 | K17: 0.54166667 | L17: =IF(AND(J17<>"",K17<>""),IF(K17>=J17,(K17-J17)*24,(K17+1-J17)*24),IF(AND(H17<>"",I17<>""),Settings!$B$23,0)) -> 1 | M17: =IF(OR(H17="",I17=""),"",IF(I17>=H17,(I17-H17)*24,(I17+1-H17)*24)) | N17: =IF(M17="","",IF(COUNTIFS(tblHolidays[Holiday Date],A17)>0,0,IF(WEEKDAY(A17,2)>Settings!$B$20,0,MIN(MAX(M17-L17,0),Settings!$B$25)))) | O17: =IF(M17="","",IF(COUNTIFS(tblHolidays[Holiday Date],A17)>0,0,IF(WEEKDAY(A17,2)>Settings!$B$20,0,MAX(MAX(M17-L17,0)-Settings!$B$25,0)))) | P17: =IF(M17="","",IF(COUNTIFS(tblHolidays[Holiday Date],A17)>0,0,IF(WEEKDAY(A17,2)>Settings!$B$20,MAX(M17-L17,0),0))) | Q17: =IF(M17="","",IF(COUNTIFS(tblHolidays[Holiday Date],A17)>0,MAX(M17-L17,0),0)) | R17: =IF(OR(H17="",F17=""),0,MAX((H17-F17)*1440-Settings!$B$24,0)) -> 0 | S17: =IF(OR(I17="",G17=""),0,MAX((G17-I17)*1440,0)) -> 0 | T17: =IF(B17="","",IF(H17="","Missing Clock In",IF(I17="","Missing Clock Out",IF(COUNTIFS(tblHolidays[Holiday Date],A17)>0,"Holiday Worked",IF(WEEKDAY(A17,2)>Settings!$B$20,"Weekend Worked",IF(R17>0,"Late Arrival",IF(S17>0,"Early Departure","Present"))))))) -> Missing Clock Out | U17: Pending | V17: SAMPLE DATA — missing Clock Out
A18: 46268 | B18: E004 | C18: =IFERROR(INDEX(tblEmployees[Employee Name],MATCH(B18,tblEmployees[Employee ID],0)),"") -> David Kim | D18: =IFERROR(INDEX(tblEmployees[Department],MATCH(B18,tblEmployees[Employee ID],0)),"") -> IT & Engineering | E18: Day | F18: 0.33333333 | G18: 0.70833333 | H18: 0.33333333 | I18: 0.70833333 | J18: 0.5 | K18: 0.54166667 | L18: =IF(AND(J18<>"",K18<>""),IF(K18>=J18,(K18-J18)*24,(K18+1-J18)*24),IF(AND(H18<>"",I18<>""),Settings!$B$23,0)) -> 1 | M18: =IF(OR(H18="",I18=""),"",IF(I18>=H18,(I18-H18)*24,(I18+1-H18)*24)) -> 9 | N18: =IF(M18="","",IF(COUNTIFS(tblHolidays[Holiday Date],A18)>0,0,IF(WEEKDAY(A18,2)>Settings!$B$20,0,MIN(MAX(M18-L18,0),Settings!$B$25)))) -> 8 | O18: =IF(M18="","",IF(COUNTIFS(tblHolidays[Holiday Date],A18)>0,0,IF(WEEKDAY(A18,2)>Settings!$B$20,0,MAX(MAX(M18-L18,0)-Settings!$B$25,0)))) -> 0 | P18: =IF(M18="","",IF(COUNTIFS(tblHolidays[Holiday Date],A18)>0,0,IF(WEEKDAY(A18,2)>Settings!$B$20,MAX(M18-L18,0),0))) -> 0 | Q18: =IF(M18="","",IF(COUNTIFS(tblHolidays[Holiday Date],A18)>0,MAX(M18-L18,0),0)) -> 0 | R18: =IF(OR(H18="",F18=""),0,MAX((H18-F18)*1440-Settings!$B$24,0)) -> 0 | S18: =IF(OR(I18="",G18=""),0,MAX((G18-I18)*1440,0)) -> 0 | T18: =IF(B18="","",IF(H18="","Missing Clock In",IF(I18="","Missing Clock Out",IF(COUNTIFS(tblHolidays[Holiday Date],A18)>0,"Holiday Worked",IF(WEEKDAY(A18,2)>Settings!$B$20,"Weekend Worked",IF(R18>0,"Late Arrival",IF(S18>0,"Early Departure","Present"))))))) -> Present | U18: Approved | V18: SAMPLE DATA
A19: 46266 | B19: E005 | C19: =IFERROR(INDEX(tblEmployees[Employee Name],MATCH(B19,tblEmployees[Employee ID],0)),"") -> Elena Petrova | D19: =IFERROR(INDEX(tblEmployees[Department],MATCH(B19,tblEmployees[Employee ID],0)),"") -> Sales | E19: Day | F19: 0.33333333 | G19: 0.70833333 | H19: 0.33333333 | I19: 0.70833333 | J19: 0.5 | K19: 0.54166667 | L19: =IF(AND(J19<>"",K19<>""),IF(K19>=J19,(K19-J19)*24,(K19+1-J19)*24),IF(AND(H19<>"",I19<>""),Settings!$B$23,0)) -> 1 | M19: =IF(OR(H19="",I19=""),"",IF(I19>=H19,(I19-H19)*24,(I19+1-H19)*24)) -> 9 | N19: =IF(M19="","",IF(COUNTIFS(tblHolidays[Holiday Date],A19)>0,0,IF(WEEKDAY(A19,2)>Settings!$B$20,0,MIN(MAX(M19-L19,0),Settings!$B$25)))) -> 8 | O19: =IF(M19="","",IF(COUNTIFS(tblHolidays[Holiday Date],A19)>0,0,IF(WEEKDAY(A19,2)>Settings!$B$20,0,MAX(MAX(M19-L19,0)-Settings!$B$25,0)))) -> 0 | P19: =IF(M19="","",IF(COUNTIFS(tblHolidays[Holiday Date],A19)>0,0,IF(WEEKDAY(A19,2)>Settings!$B$20,MAX(M19-L19,0),0))) -> 0 | Q19: =IF(M19="","",IF(COUNTIFS(tblHolidays[Holiday Date],A19)>0,MAX(M19-L19,0),0)) -> 0 | R19: =IF(OR(H19="",F19=""),0,MAX((H19-F19)*1440-Settings!$B$24,0)) -> 0 | S19: =IF(OR(I19="",G19=""),0,MAX((G19-I19)*1440,0)) -> 0 | T19: =IF(B19="","",IF(H19="","Missing Clock In",IF(I19="","Missing Clock Out",IF(COUNTIFS(tblHolidays[Holiday Date],A19)>0,"Holiday Worked",IF(WEEKDAY(A19,2)>Settings!$B$20,"Weekend Worked",IF(R19>0,"Late Arrival",IF(S19>0,"Early Departure","Present"))))))) -> Present | U19: Approved | V19: SAMPLE DATA
A20: 46267 | B20: E005 | C20: =IFERROR(INDEX(tblEmployees[Employee Name],MATCH(B20,tblEmployees[Employee ID],0)),"") -> Elena Petrova | D20: =IFERROR(INDEX(tblEmployees[Department],MATCH(B20,tblEmployees[Employee ID],0)),"") -> Sales | E20: Day | F20: 0.33333333 | G20: 0.70833333 | H20: 0.33333333 | I20: 0.70833333 | J20: 0.5 | K20: 0.54166667 | L20: =IF(AND(J20<>"",K20<>""),IF(K20>=J20,(K20-J20)*24,(K20+1-J20)*24),IF(AND(H20<>"",I20<>""),Settings!$B$23,0)) -> 1 | M20: =IF(OR(H20="",I20=""),"",IF(I20>=H20,(I20-H20)*24,(I20+1-H20)*24)) -> 9 | N20: =IF(M20="","",IF(COUNTIFS(tblHolidays[Holiday Date],A20)>0,0,IF(WEEKDAY(A20,2)>Settings!$B$20,0,MIN(MAX(M20-L20,0),Settings!$B$25)))) -> 8 | O20: =IF(M20="","",IF(COUNTIFS(tblHolidays[Holiday Date],A20)>0,0,IF(WEEKDAY(A20,2)>Settings!$B$20,0,MAX(MAX(M20-L20,0)-Settings!$B$25,0)))) -> 0 | P20: =IF(M20="","",IF(COUNTIFS(tblHolidays[Holiday Date],A20)>0,0,IF(WEEKDAY(A20,2)>Settings!$B$20,MAX(M20-L20,0),0))) -> 0 | Q20: =IF(M20="","",IF(COUNTIFS(tblHolidays[Holiday Date],A20)>0,MAX(M20-L20,0),0)) -> 0 | R20: =IF(OR(H20="",F20=""),0,MAX((H20-F20)*1440-Settings!$B$24,0)) -> 0 | S20: =IF(OR(I20="",G20=""),0,MAX((G20-I20)*1440,0)) -> 0 | T20: =IF(B20="","",IF(H20="","Missing Clock In",IF(I20="","Missing Clock Out",IF(COUNTIFS(tblHolidays[Holiday Date],A20)>0,"Holiday Worked",IF(WEEKDAY(A20,2)>Settings!$B$20,"Weekend Worked",IF(R20>0,"Late Arrival",IF(S20>0,"Early Departure","Present"))))))) -> Present | U20: Approved | V20: SAMPLE DATA
A21: 46281 | B21: E005 | C21: =IFERROR(INDEX(tblEmployees[Employee Name],MATCH(B21,tblEmployees[Employee ID],0)),"") -> Elena Petrova | D21: =IFERROR(INDEX(tblEmployees[Department],MATCH(B21,tblEmployees[Employee ID],0)),"") -> Sales | E21: Day | F21: 0.33333333 | G21: 0.70833333 | H21: 0.33333333 | I21: 0.70833333 | J21: 0.5 | K21: 0.54166667 | L21: =IF(AND(J21<>"",K21<>""),IF(K21>=J21,(K21-J21)*24,(K21+1-J21)*24),IF(AND(H21<>"",I21<>""),Settings!$B$23,0)) -> 1 | M21: =IF(OR(H21="",I21=""),"",IF(I21>=H21,(I21-H21)*24,(I21+1-H21)*24)) -> 9 | N21: =IF(M21="","",IF(COUNTIFS(tblHolidays[Holiday Date],A21)>0,0,IF(WEEKDAY(A21,2)>Settings!$B$20,0,MIN(MAX(M21-L21,0),Settings!$B$25)))) -> 8 | O21: =IF(M21="","",IF(COUNTIFS(tblHolidays[Holiday Date],A21)>0,0,IF(WEEKDAY(A21,2)>Settings!$B$20,0,MAX(MAX(M21-L21,0)-Settings!$B$25,0)))) -> 0 | P21: =IF(M21="","",IF(COUNTIFS(tblHolidays[Holiday Date],A21)>0,0,IF(WEEKDAY(A21,2)>Settings!$B$20,MAX(M21-L21,0),0))) -> 0 | Q21: =IF(M21="","",IF(COUNTIFS(tblHolidays[Holiday Date],A21)>0,MAX(M21-L21,0),0)) -> 0 | R21: =IF(OR(H21="",F21=""),0,MAX((H21-F21)*1440-Settings!$B$24,0)) -> 0 | S21: =IF(OR(I21="",G21=""),0,MAX((G21-I21)*1440,0)) -> 0 | T21: =IF(B21="","",IF(H21="","Missing Clock In",IF(I21="","Missing Clock Out",IF(COUNTIFS(tblHolidays[Holiday Date],A21)>0,"Holiday Worked",IF(WEEKDAY(A21,2)>Settings!$B$20,"Weekend Worked",IF(R21>0,"Late Arrival",IF(S21>0,"Early Departure","Present"))))))) -> Present | U21: Pending | V21: SAMPLE DATA — recorded during approved unpaid leave (exception for Audit demo)
A22: 46266 | B22: E006 | C22: =IFERROR(INDEX(tblEmployees[Employee Name],MATCH(B22,tblEmployees[Employee ID],0)),"") -> Farhan Ali | D22: =IFERROR(INDEX(tblEmployees[Department],MATCH(B22,tblEmployees[Employee ID],0)),"") -> Operations | E22: Night | F22: 0.91666667 | G22: 0.25 | H22: 0.91666667 | I22: 0.26041667 | J22: 0.083333333 | K22: 0.10416667 | L22: =IF(AND(J22<>"",K22<>""),IF(K22>=J22,(K22-J22)*24,(K22+1-J22)*24),IF(AND(H22<>"",I22<>""),Settings!$B$23,0)) -> 0.5 | M22: =IF(OR(H22="",I22=""),"",IF(I22>=H22,(I22-H22)*24,(I22+1-H22)*24)) -> 8.25 | N22: =IF(M22="","",IF(COUNTIFS(tblHolidays[Holiday Date],A22)>0,0,IF(WEEKDAY(A22,2)>Settings!$B$20,0,MIN(MAX(M22-L22,0),Settings!$B$25)))) -> 7.75 | O22: =IF(M22="","",IF(COUNTIFS(tblHolidays[Holiday Date],A22)>0,0,IF(WEEKDAY(A22,2)>Settings!$B$20,0,MAX(MAX(M22-L22,0)-Settings!$B$25,0)))) -> 0 | P22: =IF(M22="","",IF(COUNTIFS(tblHolidays[Holiday Date],A22)>0,0,IF(WEEKDAY(A22,2)>Settings!$B$20,MAX(M22-L22,0),0))) -> 0 | Q22: =IF(M22="","",IF(COUNTIFS(tblHolidays[Holiday Date],A22)>0,MAX(M22-L22,0),0)) -> 0 | R22: =IF(OR(H22="",F22=""),0,MAX((H22-F22)*1440-Settings!$B$24,0)) -> 0 | S22: =IF(OR(I22="",G22=""),0,MAX((G22-I22)*1440,0)) -> 0 | T22: =IF(B22="","",IF(H22="","Missing Clock In",IF(I22="","Missing Clock Out",IF(COUNTIFS(tblHolidays[Holiday Date],A22)>0,"Holiday Worked",IF(WEEKDAY(A22,2)>Settings!$B$20,"Weekend Worked",IF(R22>0,"Late Arrival",IF(S22>0,"Early Departure","Present"))))))) -> Present | U22: Approved | V22: SAMPLE DATA — overnight shift
A23: 46267 | B23: E006 | C23: =IFERROR(INDEX(tblEmployees[Employee Name],MATCH(B23,tblEmployees[Employee ID],0)),"") -> Farhan Ali | D23: =IFERROR(INDEX(tblEmployees[Department],MATCH(B23,tblEmployees[Employee ID],0)),"") -> Operations | E23: Night | F23: 0.91666667 | G23: 0.25 | H23: 0.92013889 | I23: 0.25 | J23: 0.083333333 | K23: 0.10416667 | L23: =IF(AND(J23<>"",K23<>""),IF(K23>=J23,(K23-J23)*24,(K23+1-J23)*24),IF(AND(H23<>"",I23<>""),Settings!$B$23,0)) -> 0.5 | M23: =IF(OR(H23="",I23=""),"",IF(I23>=H23,(I23-H23)*24,(I23+1-H23)*24)) -> 7.9166667 | N23: =IF(M23="","",IF(COUNTIFS(tblHolidays[Holiday Date],A23)>0,0,IF(WEEKDAY(A23,2)>Settings!$B$20,0,MIN(MAX(M23-L23,0),Settings!$B$25)))) -> 7.4166667 | O23: =IF(M23="","",IF(COUNTIFS(tblHolidays[Holiday Date],A23)>0,0,IF(WEEKDAY(A23,2)>Settings!$B$20,0,MAX(MAX(M23-L23,0)-Settings!$B$25,0)))) -> 0 | P23: =IF(M23="","",IF(COUNTIFS(tblHolidays[Holiday Date],A23)>0,0,IF(WEEKDAY(A23,2)>Settings!$B$20,MAX(M23-L23,0),0))) -> 0 | Q23: =IF(M23="","",IF(COUNTIFS(tblHolidays[Holiday Date],A23)>0,MAX(M23-L23,0),0)) -> 0 | R23: =IF(OR(H23="",F23=""),0,MAX((H23-F23)*1440-Settings!$B$24,0)) -> 0 | S23: =IF(OR(I23="",G23=""),0,MAX((G23-I23)*1440,0)) -> 0 | T23: =IF(B23="","",IF(H23="","Missing Clock In",IF(I23="","Missing Clock Out",IF(COUNTIFS(tblHolidays[Holiday Date],A23)>0,"Holiday Worked",IF(WEEKDAY(A23,2)>Settings!$B$20,"Weekend Worked",IF(R23>0,"Late Arrival",IF(S23>0,"Early Departure","Present"))))))) -> Present | U23: Approved | V23: SAMPLE DATA — overnight shift
A24: 46266 | B24: E007 | C24: =IFERROR(INDEX(tblEmployees[Employee Name],MATCH(B24,tblEmployees[Employee ID],0)),"") -> Grace Njoroge | D24: =IFERROR(INDEX(tblEmployees[Department],MATCH(B24,tblEmployees[Employee ID],0)),"") -> Operations | E24: Day | F24: 0.33333333 | G24: 0.70833333 | H24: 0.33333333 | I24: 0.70833333 | J24: 0.5 | K24: 0.54166667 | L24: =IF(AND(J24<>"",K24<>""),IF(K24>=J24,(K24-J24)*24,(K24+1-J24)*24),IF(AND(H24<>"",I24<>""),Settings!$B$23,0)) -> 1 | M24: =IF(OR(H24="",I24=""),"",IF(I24>=H24,(I24-H24)*24,(I24+1-H24)*24)) -> 9 | N24: =IF(M24="","",IF(COUNTIFS(tblHolidays[Holiday Date],A24)>0,0,IF(WEEKDAY(A24,2)>Settings!$B$20,0,MIN(MAX(M24-L24,0),Settings!$B$25)))) -> 8 | O24: =IF(M24="","",IF(COUNTIFS(tblHolidays[Holiday Date],A24)>0,0,IF(WEEKDAY(A24,2)>Settings!$B$20,0,MAX(MAX(M24-L24,0)-Settings!$B$25,0)))) -> 0 | P24: =IF(M24="","",IF(COUNTIFS(tblHolidays[Holiday Date],A24)>0,0,IF(WEEKDAY(A24,2)>Settings!$B$20,MAX(M24-L24,0),0))) -> 0 | Q24: =IF(M24="","",IF(COUNTIFS(tblHolidays[Holiday Date],A24)>0,MAX(M24-L24,0),0)) -> 0 | R24: =IF(OR(H24="",F24=""),0,MAX((H24-F24)*1440-Settings!$B$24,0)) -> 0 | S24: =IF(OR(I24="",G24=""),0,MAX((G24-I24)*1440,0)) -> 0 | T24: =IF(B24="","",IF(H24="","Missing Clock In",IF(I24="","Missing Clock Out",IF(COUNTIFS(tblHolidays[Holiday Date],A24)>0,"Holiday Worked",IF(WEEKDAY(A24,2)>Settings!$B$20,"Weekend Worked",IF(R24>0,"Late Arrival",IF(S24>0,"Early Departure","Present"))))))) -> Present | U24: Approved | V24: SAMPLE DATA
A25: 46267 | B25: E007 | C25: =IFERROR(INDEX(tblEmployees[Employee Name],MATCH(B25,tblEmployees[Employee ID],0)),"") -> Grace Njoroge | D25: =IFERROR(INDEX(tblEmployees[Department],MATCH(B25,tblEmployees[Employee ID],0)),"") -> Operations | E25: Day | F25: 0.33333333 | G25: 0.70833333 | H25: 0.33333333 | I25: 0.70833333 | J25: 0.5 | K25: 0.54166667 | L25: =IF(AND(J25<>"",K25<>""),IF(K25>=J25,(K25-J25)*24,(K25+1-J25)*24),IF(AND(H25<>"",I25<>""),Settings!$B$23,0)) -> 1 | M25: =IF(OR(H25="",I25=""),"",IF(I25>=H25,(I25-H25)*24,(I25+1-H25)*24)) -> 9 | N25: =IF(M25="","",IF(COUNTIFS(tblHolidays[Holiday Date],A25)>0,0,IF(WEEKDAY(A25,2)>Settings!$B$20,0,MIN(MAX(M25-L25,0),Settings!$B$25)))) -> 8 | O25: =IF(M25="","",IF(COUNTIFS(tblHolidays[Holiday Date],A25)>0,0,IF(WEEKDAY(A25,2)>Settings!$B$20,0,MAX(MAX(M25-L25,0)-Settings!$B$25,0)))) -> 0 | P25: =IF(M25="","",IF(COUNTIFS(tblHolidays[Holiday Date],A25)>0,0,IF(WEEKDAY(A25,2)>Settings!$B$20,MAX(M25-L25,0),0))) -> 0 | Q25: =IF(M25="","",IF(COUNTIFS(tblHolidays[Holiday Date],A25)>0,MAX(M25-L25,0),0)) -> 0 | R25: =IF(OR(H25="",F25=""),0,MAX((H25-F25)*1440-Settings!$B$24,0)) -> 0 | S25: =IF(OR(I25="",G25=""),0,MAX((G25-I25)*1440,0)) -> 0 | T25: =IF(B25="","",IF(H25="","Missing Clock In",IF(I25="","Missing Clock Out",IF(COUNTIFS(tblHolidays[Holiday Date],A25)>0,"Holiday Worked",IF(WEEKDAY(A25,2)>Settings!$B$20,"Weekend Worked",IF(R25>0,"Late Arrival",IF(S25>0,"Early Departure","Present"))))))) -> Present | U25: Approved | V25: SAMPLE DATA
A26: 46266 | B26: E008 | C26: =IFERROR(INDEX(tblEmployees[Employee Name],MATCH(B26,tblEmployees[Employee ID],0)),"") -> Hiro Tanaka | D26: =IFERROR(INDEX(tblEmployees[Department],MATCH(B26,tblEmployees[Employee ID],0)),"") -> IT & Engineering | E26: Day | F26: 0.33333333 | G26: 0.70833333 | H26: 0.33333333 | I26: 0.70833333 | J26: 0.5 | K26: 0.54166667 | L26: =IF(AND(J26<>"",K26<>""),IF(K26>=J26,(K26-J26)*24,(K26+1-J26)*24),IF(AND(H26<>"",I26<>""),Settings!$B$23,0)) -> 1 | M26: =IF(OR(H26="",I26=""),"",IF(I26>=H26,(I26-H26)*24,(I26+1-H26)*24)) -> 9 | N26: =IF(M26="","",IF(COUNTIFS(tblHolidays[Holiday Date],A26)>0,0,IF(WEEKDAY(A26,2)>Settings!$B$20,0,MIN(MAX(M26-L26,0),Settings!$B$25)))) -> 8 | O26: =IF(M26="","",IF(COUNTIFS(tblHolidays[Holiday Date],A26)>0,0,IF(WEEKDAY(A26,2)>Settings!$B$20,0,MAX(MAX(M26-L26,0)-Settings!$B$25,0)))) -> 0 | P26: =IF(M26="","",IF(COUNTIFS(tblHolidays[Holiday Date],A26)>0,0,IF(WEEKDAY(A26,2)>Settings!$B$20,MAX(M26-L26,0),0))) -> 0 | Q26: =IF(M26="","",IF(COUNTIFS(tblHolidays[Holiday Date],A26)>0,MAX(M26-L26,0),0)) -> 0 | R26: =IF(OR(H26="",F26=""),0,MAX((H26-F26)*1440-Settings!$B$24,0)) -> 0 | S26: =IF(OR(I26="",G26=""),0,MAX((G26-I26)*1440,0)) -> 0 | T26: =IF(B26="","",IF(H26="","Missing Clock In",IF(I26="","Missing Clock Out",IF(COUNTIFS(tblHolidays[Holiday Date],A26)>0,"Holiday Worked",IF(WEEKDAY(A26,2)>Settings!$B$20,"Weekend Worked",IF(R26>0,"Late Arrival",IF(S26>0,"Early Departure","Present"))))))) -> Present | U26: Approved | V26: SAMPLE DATA
A27: 46267 | B27: E008 | C27: =IFERROR(INDEX(tblEmployees[Employee Name],MATCH(B27,tblEmployees[Employee ID],0)),"") -> Hiro Tanaka | D27: =IFERROR(INDEX(tblEmployees[Department],MATCH(B27,tblEmployees[Employee ID],0)),"") -> IT & Engineering | E27: Day | F27: 0.33333333 | G27: 0.70833333 | H27: 0.33333333 | I27: 0.70833333 | J27: 0.5 | K27: 0.54166667 | L27: =IF(AND(J27<>"",K27<>""),IF(K27>=J27,(K27-J27)*24,(K27+1-J27)*24),IF(AND(H27<>"",I27<>""),Settings!$B$23,0)) -> 1 | M27: =IF(OR(H27="",I27=""),"",IF(I27>=H27,(I27-H27)*24,(I27+1-H27)*24)) -> 9 | N27: =IF(M27="","",IF(COUNTIFS(tblHolidays[Holiday Date],A27)>0,0,IF(WEEKDAY(A27,2)>Settings!$B$20,0,MIN(MAX(M27-L27,0),Settings!$B$25)))) -> 8 | O27: =IF(M27="","",IF(COUNTIFS(tblHolidays[Holiday Date],A27)>0,0,IF(WEEKDAY(A27,2)>Settings!$B$20,0,MAX(MAX(M27-L27,0)-Settings!$B$25,0)))) -> 0 | P27: =IF(M27="","",IF(COUNTIFS(tblHolidays[Holiday Date],A27)>0,0,IF(WEEKDAY(A27,2)>Settings!$B$20,MAX(M27-L27,0),0))) -> 0 | Q27: =IF(M27="","",IF(COUNTIFS(tblHolidays[Holiday Date],A27)>0,MAX(M27-L27,0),0)) -> 0 | R27: =IF(OR(H27="",F27=""),0,MAX((H27-F27)*1440-Settings!$B$24,0)) -> 0 | S27: =IF(OR(I27="",G27=""),0,MAX((G27-I27)*1440,0)) -> 0 | T27: =IF(B27="","",IF(H27="","Missing Clock In",IF(I27="","Missing Clock Out",IF(COUNTIFS(tblHolidays[Holiday Date],A27)>0,"Holiday Worked",IF(WEEKDAY(A27,2)>Settings!$B$20,"Weekend Worked",IF(R27>0,"Late Arrival",IF(S27>0,"Early Departure","Present"))))))) -> Present | U27: Approved | V27: SAMPLE DATA
A28: 46266 | B28: E009 | C28: =IFERROR(INDEX(tblEmployees[Employee Name],MATCH(B28,tblEmployees[Employee ID],0)),"") -> Isabella Rossi | D28: =IFERROR(INDEX(tblEmployees[Department],MATCH(B28,tblEmployees[Employee ID],0)),"") -> Human Resources | E28: Day | F28: 0.33333333 | G28: 0.70833333 | H28: 0.33333333 | I28: 0.70833333 | J28: 0.5 | K28: 0.54166667 | L28: =IF(AND(J28<>"",K28<>""),IF(K28>=J28,(K28-J28)*24,(K28+1-J28)*24),IF(AND(H28<>"",I28<>""),Settings!$B$23,0)) -> 1 | M28: =IF(OR(H28="",I28=""),"",IF(I28>=H28,(I28-H28)*24,(I28+1-H28)*24)) -> 9 | N28: =IF(M28="","",IF(COUNTIFS(tblHolidays[Holiday Date],A28)>0,0,IF(WEEKDAY(A28,2)>Settings!$B$20,0,MIN(MAX(M28-L28,0),Settings!$B$25)))) -> 8 | O28: =IF(M28="","",IF(COUNTIFS(tblHolidays[Holiday Date],A28)>0,0,IF(WEEKDAY(A28,2)>Settings!$B$20,0,MAX(MAX(M28-L28,0)-Settings!$B$25,0)))) -> 0 | P28: =IF(M28="","",IF(COUNTIFS(tblHolidays[Holiday Date],A28)>0,0,IF(WEEKDAY(A28,2)>Settings!$B$20,MAX(M28-L28,0),0))) -> 0 | Q28: =IF(M28="","",IF(COUNTIFS(tblHolidays[Holiday Date],A28)>0,MAX(M28-L28,0),0)) -> 0 | R28: =IF(OR(H28="",F28=""),0,MAX((H28-F28)*1440-Settings!$B$24,0)) -> 0 | S28: =IF(OR(I28="",G28=""),0,MAX((G28-I28)*1440,0)) -> 0 | T28: =IF(B28="","",IF(H28="","Missing Clock In",IF(I28="","Missing Clock Out",IF(COUNTIFS(tblHolidays[Holiday Date],A28)>0,"Holiday Worked",IF(WEEKDAY(A28,2)>Settings!$B$20,"Weekend Worked",IF(R28>0,"Late Arrival",IF(S28>0,"Early Departure","Present"))))))) -> Present | U28: Approved | V28: SAMPLE DATA
A29: 46267 | B29: E009 | C29: =IFERROR(INDEX(tblEmployees[Employee Name],MATCH(B29,tblEmployees[Employee ID],0)),"") -> Isabella Rossi | D29: =IFERROR(INDEX(tblEmployees[Department],MATCH(B29,tblEmployees[Employee ID],0)),"") -> Human Resources | E29: Day | F29: 0.33333333 | G29: 0.70833333 | H29: 0.33333333 | I29: 0.70833333 | J29: 0.5 | K29: 0.54166667 | L29: =IF(AND(J29<>"",K29<>""),IF(K29>=J29,(K29-J29)*24,(K29+1-J29)*24),IF(AND(H29<>"",I29<>""),Settings!$B$23,0)) -> 1 | M29: =IF(OR(H29="",I29=""),"",IF(I29>=H29,(I29-H29)*24,(I29+1-H29)*24)) -> 9 | N29: =IF(M29="","",IF(COUNTIFS(tblHolidays[Holiday Date],A29)>0,0,IF(WEEKDAY(A29,2)>Settings!$B$20,0,MIN(MAX(M29-L29,0),Settings!$B$25)))) -> 8 | O29: =IF(M29="","",IF(COUNTIFS(tblHolidays[Holiday Date],A29)>0,0,IF(WEEKDAY(A29,2)>Settings!$B$20,0,MAX(MAX(M29-L29,0)-Settings!$B$25,0)))) -> 0 | P29: =IF(M29="","",IF(COUNTIFS(tblHolidays[Holiday Date],A29)>0,0,IF(WEEKDAY(A29,2)>Settings!$B$20,MAX(M29-L29,0),0))) -> 0 | Q29: =IF(M29="","",IF(COUNTIFS(tblHolidays[Holiday Date],A29)>0,MAX(M29-L29,0),0)) -> 0 | R29: =IF(OR(H29="",F29=""),0,MAX((H29-F29)*1440-Settings!$B$24,0)) -> 0 | S29: =IF(OR(I29="",G29=""),0,MAX((G29-I29)*1440,0)) -> 0 | T29: =IF(B29="","",IF(H29="","Missing Clock In",IF(I29="","Missing Clock Out",IF(COUNTIFS(tblHolidays[Holiday Date],A29)>0,"Holiday Worked",IF(WEEKDAY(A29,2)>Settings!$B$20,"Weekend Worked",IF(R29>0,"Late Arrival",IF(S29>0,"Early Departure","Present"))))))) -> Present | U29: Approved | V29: SAMPLE DATA
... A31: 46267 | B31: E010 | C31: =IFERROR(INDEX(tblEmployees[Employee Name],MATCH(B31,tblEmployees[Employee ID],0)),"") -> Jonah Baptiste | D31: =IFERROR(INDEX(tblEmployees[Department],MATCH(B31,tblEmployees[Employee ID],0)),"") -> Finance | E31: Day | F31: 0.33333333 | G31: 0.70833333 | H31: 0.33333333 | I31: 0.83333333 | J31: 0.5 | K31: 0.54166667 | L31: =IF(AND(J31<>"",K31<>""),IF(K31>=J31,(K31-J31)*24,(K31+1-J31)*24),IF(AND(H31<>"",I31<>""),Settings!$B$23,0)) -> 1 | M31: =IF(OR(H31="",I31=""),"",IF(I31>=H31,(I31-H31)*24,(I31+1-H31)*24)) -> 12 | N31: =IF(M31="","",IF(COUNTIFS(tblHolidays[Holiday Date],A31)>0,0,IF(WEEKDAY(A31,2)>Settings!$B$20,0,MIN(MAX(M31-L31,0),Settings!$B$25)))) -> 8 | O31: =IF(M31="","",IF(COUNTIFS(tblHolidays[Holiday Date],A31)>0,0,IF(WEEKDAY(A31,2)>Settings!$B$20,0,MAX(MAX(M31-L31,0)-Settings!$B$25,0)))) -> 3 | P31: =IF(M31="","",IF(COUNTIFS(tblHolidays[Holiday Date],A31)>0,0,IF(WEEKDAY(A31,2)>Settings!$B$20,MAX(M31-L31,0),0))) -> 0 | Q31: =IF(M31="","",IF(COUNTIFS(tblHolidays[Holiday Date],A31)>0,MAX(M31-L31,0),0)) -> 0 | R31: =IF(OR(H31="",F31=""),0,MAX((H31-F31)*1440-Settings!$B$24,0)) -> 0 | S31: =IF(OR(I31="",G31=""),0,MAX((G31-I31)*1440,0)) -> 0 | T31: =IF(B31="","",IF(H31="","Missing Clock In",IF(I31="","Missing Clock Out",IF(COUNTIFS(tblHolidays[Holiday Date],A31)>0,"Holiday Worked",IF(WEEKDAY(A31,2)>Settings!$B$20,"Weekend Worked",IF(R31>0,"Late Arrival",IF(S31>0,"Early Departure","Present"))))))) -> Present | U31: Approved | V31: SAMPLE DATA — overtime

Sheet Leave
A1: LEAVE — Employee leave records
A3: Leave ID | B3: Employee ID | C3: Employee Name | D3: Department | E3: Leave Type | F3: Start Date | G3: End Date | H3: Number of Days | I3: Paid/Unpaid | J3: Approval Status | K3: Approved By | L3: Notes
A4: L001 | B4: E005 | C4: =IFERROR(INDEX(tblEmployees[Employee Name],MATCH(B4,tblEmployees[Employee ID],0)),"") -> Elena Petrova | D4: =IFERROR(INDEX(tblEmployees[Department],MATCH(B4,tblEmployees[Employee ID],0)),"") -> Sales | E4: Unpaid Leave | F4: 46280 | G4: 46282 | H4: =IF(OR(F4="",G4=""),"",G4-F4+1) -> 3 | I4: Unpaid | J4: Approved | K4: Dana Whitfield | L4: SAMPLE DATA
A5: L002 | B5: E001 | C5: =IFERROR(INDEX(tblEmployees[Employee Name],MATCH(B5,tblEmployees[Employee ID],0)),"") -> Amelia Carter | D5: =IFERROR(INDEX(tblEmployees[Department],MATCH(B5,tblEmployees[Employee ID],0)),"") -> Sales | E5: Annual Leave | F5: 46275 | G5: 46275 | H5: =IF(OR(F5="",G5=""),"",G5-F5+1) -> 1 | I5: Paid | J5: Approved | K5: Michael Reyes | L5: SAMPLE DATA
A6: L003 | B6: E009 | C6: =IFERROR(INDEX(tblEmployees[Employee Name],MATCH(B6,tblEmployees[Employee ID],0)),"") -> Isabella Rossi | D6: =IFERROR(INDEX(tblEmployees[Department],MATCH(B6,tblEmployees[Employee ID],0)),"") -> Human Resources | E6: Sick Leave | F6: 46268 | G6: 46269 | H6: =IF(OR(F6="",G6=""),"",G6-F6+1) -> 2 | I6: Paid | J6: Approved | K6: Dana Whitfield | L6: SAMPLE DATA
A7: L004 | B7: E006 | C7: =IFERROR(INDEX(tblEmployees[Employee Name],MATCH(B7,tblEmployees[Employee ID],0)),"") -> Farhan Ali | D7: =IFERROR(INDEX(tblEmployees[Department],MATCH(B7,tblEmployees[Employee ID],0)),"") -> Operations | E7: Emergency Leave | F7: 46287 | G7: 46287 | H7: =IF(OR(F7="",G7=""),"",G7-F7+1) -> 1 | I7: Unpaid | J7: Pending | L7: SAMPLE DATA — pending approval, excluded from payroll until approved

Sheet Payroll
A1: PAYROLL — Monthly payroll calculation (auto-generated for the period selected in Settings)
A2: Payroll period: | B2: =TEXT(PeriodStart,"mmmm yyyy") -> September 2026
A4: Employee ID | B4: Employee Name | C4: Department | D4: Job Title | E4: Monthly Basic Salary | F4: Hourly Rate | G4: Regular Hours | H4: Overtime Hours | I4: Weekend Hours | J4: Holiday Hours | K4: Overtime Pay | L4: Weekend Pay | M4: Holiday Pay | N4: Allowances | O4: Bonuses | P4: Other Earnings | Q4: Gross Earnings | R4: Unpaid Leave Days | S4: Unpaid Leave Deduction | T4: Social Insurance | U4: Medical Insurance | V4: Employee Welfare Fund | W4: Pension | X4: Loan Repayment | Y4: Salary Advance Recovery | Z4: Total Deductions | AA4: Net Pay | AB4: Payroll Status
