Workbook
Name DefaultAnnual: Setup!$B$9
Name DefaultSick: Setup!$B$10
Name DepartmentList: Setup!$G$14:$G$23
Name HolidayDates: Setup!$A$14:$A$33
Name ReportMonth: Setup!$B$7
Name StatusList: Setup!$D$14:$D$18
Name WeekendCode: Setup!$B$8

Sheet Cover
A1: EMPLOYEE ATTENDANCE & LEAVE TRACKER
A3: Automated monthly HR workbook for attendance, leave usage, balances, and department reporting
A5: MONTHLY CONTROL CENTER
A7: Sheet | B7: Purpose
A8: Setup | B8: Choose the reporting month, maintain holidays, statuses, and departments.
A9: Employees | B9: Enter the employee roster and review live annual and sick leave balances.
A10: Attendance | B10: Record one daily status per employee using color-coded dropdowns.
A11: Dashboard | B11: Review monthly KPIs, status mix, and department-level performance.
A14: QUICK START 1. Set the report month and holidays on Setup. 2. Add employees and departments. 3. Select a daily status on Attendance. 4. Open Dashboard for live results.

Sheet Setup
A1: SETUP & CONTROL PANEL
A2: Edit blue input cells only. Saturday–Sunday is configured as the weekend pattern.
A4: REPORT SETTINGS
A6: Setting | B6: Value | D6: Calendar notes • Weekend code 1 = Saturday–Sunday. • Enter company holidays below; they are excluded from working days. • Changing the report month updates all date headers and dashboard calculations.
A7: Report month | B7: 46266
A8: Weekend code | B8: 1
A9: Default annual leave | B9: 30
A10: Default sick leave | B10: 30
A12: LISTS & HOLIDAYS
A13: Holiday date | B13: Description | D13: Status | E13: Meaning | G13: Department
D14: Present | E14: Full day worked | G14: Administration
D15: Absent | E15: Unexcused or unpaid absence | G15: Finance
D16: Sick Leave | E16: Sick leave day | G16: Human Resources
D17: Annual Leave | E17: Vacation / annual leave day | G17: IT
D18: Half Day | E18: Half day worked | G18: Operations
G19: Sales
G20: Marketing
G21: Customer Service
G22: Procurement
G23: Other

Sheet Employees
A1: EMPLOYEE ROSTER & LEAVE BALANCES
A2: Enter employee details in columns A–D. Allowances default to 30 days and may be overwritten per employee.
A4: Employee ID | B4: Employee Name | C4: Department | D4: Start Date | E4: Annual Allowance | F4: Sick Allowance | G4: Annual Used | H4: Sick Used | I4: Annual Remaining | J4: Sick Remaining | K4: Active
E5: =IF($A5="","",DefaultAnnual) | F5: =IF($A5="","",DefaultSick) | G5: =IF($A5="","",Attendance!$I5) | H5: =IF($A5="","",Attendance!$H5) | I5: =IF($A5="","",MAX(0,E5-G5)) | J5: =IF($A5="","",MAX(0,F5-H5)) | K5: =IF($A5="","","Yes")
E6: =IF($A6="","",DefaultAnnual) | F6: =IF($A6="","",DefaultSick) | G6: =IF($A6="","",Attendance!$I6) | H6: =IF($A6="","",Attendance!$H6) | I6: =IF($A6="","",MAX(0,E6-G6)) | J6: =IF($A6="","",MAX(0,F6-H6)) | K6: =IF($A6="","","Yes")
E7: =IF($A7="","",DefaultAnnual) | F7: =IF($A7="","",DefaultSick) | G7: =IF($A7="","",Attendance!$I7) | H7: =IF($A7="","",Attendance!$H7) | I7: =IF($A7="","",MAX(0,E7-G7)) | J7: =IF($A7="","",MAX(0,F7-H7)) | K7: =IF($A7="","","Yes")
E8: =IF($A8="","",DefaultAnnual) | F8: =IF($A8="","",DefaultSick) | G8: =IF($A8="","",Attendance!$I8) | H8: =IF($A8="","",Attendance!$H8) | I8: =IF($A8="","",MAX(0,E8-G8)) | J8: =IF($A8="","",MAX(0,F8-H8)) | K8: =IF($A8="","","Yes")
E9: =IF($A9="","",DefaultAnnual) | F9: =IF($A9="","",DefaultSick) | G9: =IF($A9="","",Attendance!$I9) | H9: =IF($A9="","",Attendance!$H9) | I9: =IF($A9="","",MAX(0,E9-G9)) | J9: =IF($A9="","",MAX(0,F9-H9)) | K9: =IF($A9="","","Yes")
E10: =IF($A10="","",DefaultAnnual) | F10: =IF($A10="","",DefaultSick) | G10: =IF($A10="","",Attendance!$I10) | H10: =IF($A10="","",Attendance!$H10) | I10: =IF($A10="","",MAX(0,E10-G10)) | J10: =IF($A10="","",MAX(0,F10-H10)) | K10: =IF($A10="","","Yes")
E11: =IF($A11="","",DefaultAnnual) | F11: =IF($A11="","",DefaultSick) | G11: =IF($A11="","",Attendance!$I11) | H11: =IF($A11="","",Attendance!$H11) | I11: =IF($A11="","",MAX(0,E11-G11)) | J11: =IF($A11="","",MAX(0,F11-H11)) | K11: =IF($A11="","","Yes")
E12: =IF($A12="","",DefaultAnnual) | F12: =IF($A12="","",DefaultSick) | G12: =IF($A12="","",Attendance!$I12) | H12: =IF($A12="","",Attendance!$H12) | I12: =IF($A12="","",MAX(0,E12-G12)) | J12: =IF($A12="","",MAX(0,F12-H12)) | K12: =IF($A12="","","Yes")
E13: =IF($A13="","",DefaultAnnual) | F13: =IF($A13="","",DefaultSick) | G13: =IF($A13="","",Attendance!$I13) | H13: =IF($A13="","",Attendance!$H13) | I13: =IF($A13="","",MAX(0,E13-G13)) | J13: =IF($A13="","",MAX(0,F13-H13)) | K13: =IF($A13="","","Yes")
E14: =IF($A14="","",DefaultAnnual) | F14: =IF($A14="","",DefaultSick) | G14: =IF($A14="","",Attendance!$I14) | H14: =IF($A14="","",Attendance!$H14) | I14: =IF($A14="","",MAX(0,E14-G14)) | J14: =IF($A14="","",MAX(0,F14-H14)) | K14: =IF($A14="","","Yes")
E15: =IF($A15="","",DefaultAnnual) | F15: =IF($A15="","",DefaultSick) | G15: =IF($A15="","",Attendance!$I15) | H15: =IF($A15="","",Attendance!$H15) | I15: =IF($A15="","",MAX(0,E15-G15)) | J15: =IF($A15="","",MAX(0,F15-H15)) | K15: =IF($A15="","","Yes")
E16: =IF($A16="","",DefaultAnnual) | F16: =IF($A16="","",DefaultSick) | G16: =IF($A16="","",Attendance!$I16) | H16: =IF($A16="","",Attendance!$H16) | I16: =IF($A16="","",MAX(0,E16-G16)) | J16: =IF($A16="","",MAX(0,F16-H16)) | K16: =IF($A16="","","Yes")
... E104: =IF($A104="","",DefaultAnnual) | F104: =IF($A104="","",DefaultSick) | G104: =IF($A104="","",Attendance!$I104) | H104: =IF($A104="","",Attendance!$H104) | I104: =IF($A104="","",MAX(0,E104-G104)) | J104: =IF($A104="","",MAX(0,F104-H104)) | K104: =IF($A104="","","Yes")

Sheet Attendance
A1: MONTHLY ATTENDANCE REGISTER
A2: Choose a status for each calendar day. Blank, weekend, and holiday columns are not counted as working days.
A4: Employee ID | B4: Employee Name | C4: Department | D4: Active | E4: Working Days | F4: Days Worked | G4: Absent | H4: Sick Leave | I4: Annual Leave | J4: Half Days | K4: =IF(COLUMN()-COLUMN($K$4)+1<=DAY(EOMONTH(ReportMonth,0)),ReportMonth+COLUMN()-COLUMN($K$4),"") -> 46266 | L4: =IF(COLUMN()-COLUMN($K$4)+1<=DAY(EOMONTH(ReportMonth,0)),ReportMonth+COLUMN()-COLUMN($K$4),"") -> 46267 | M4: =IF(COLUMN()-COLUMN($K$4)+1<=DAY(EOMONTH(ReportMonth,0)),ReportMonth+COLUMN()-COLUMN($K$4),"") -> 46268 | N4: =IF(COLUMN()-COLUMN($K$4)+1<=DAY(EOMONTH(ReportMonth,0)),ReportMonth+COLUMN()-COLUMN($K$4),"") -> 46269 | O4: =IF(COLUMN()-COLUMN($K$4)+1<=DAY(EOMONTH(ReportMonth,0)),ReportMonth+COLUMN()-COLUMN($K$4),"") -> 46270 | P4: =IF(COLUMN()-COLUMN($K$4)+1<=DAY(EOMONTH(ReportMonth,0)),ReportMonth+COLUMN()-COLUMN($K$4),"") -> 46271 | Q4: =IF(COLUMN()-COLUMN($K$4)+1<=DAY(EOMONTH(ReportMonth,0)),ReportMonth+COLUMN()-COLUMN($K$4),"") -> 46272 | R4: =IF(COLUMN()-COLUMN($K$4)+1<=DAY(EOMONTH(ReportMonth,0)),ReportMonth+COLUMN()-COLUMN($K$4),"") -> 46273 | ... AO4: =IF(COLUMN()-COLUMN($K$4)+1<=DAY(EOMONTH(ReportMonth,0)),ReportMonth+COLUMN()-COLUMN($K$4),"")
A5: =IF(Employees!A5="","",Employees!A5) | B5: =IF($A5="","",Employees!B5) | C5: =IF($A5="","",Employees!C5) | D5: =IF($A5="","",Employees!K5) | E5: =IF(OR($A5="",$D5<>"Yes"),"",NETWORKDAYS.INTL(MAX(Employees!$D5,ReportMonth),EOMONTH(ReportMonth,0),WeekendCode,HolidayDates)) | F5: =IF($A5="","",COUNTIF($K5:$AO5,"Present")+0.5*COUNTIF($K5:$AO5,"Half Day")) | G5: =IF($A5="","",COUNTIF($K5:$AO5,"Absent")) | H5: =IF($A5="","",COUNTIF($K5:$AO5,"Sick Leave")) | I5: =IF($A5="","",COUNTIF($K5:$AO5,"Annual Leave")) | J5: =IF($A5="","",COUNTIF($K5:$AO5,"Half Day"))
A6: =IF(Employees!A6="","",Employees!A6) | B6: =IF($A6="","",Employees!B6) | C6: =IF($A6="","",Employees!C6) | D6: =IF($A6="","",Employees!K6) | E6: =IF(OR($A6="",$D6<>"Yes"),"",NETWORKDAYS.INTL(MAX(Employees!$D6,ReportMonth),EOMONTH(ReportMonth,0),WeekendCode,HolidayDates)) | F6: =IF($A6="","",COUNTIF($K6:$AO6,"Present")+0.5*COUNTIF($K6:$AO6,"Half Day")) | G6: =IF($A6="","",COUNTIF($K6:$AO6,"Absent")) | H6: =IF($A6="","",COUNTIF($K6:$AO6,"Sick Leave")) | I6: =IF($A6="","",COUNTIF($K6:$AO6,"Annual Leave")) | J6: =IF($A6="","",COUNTIF($K6:$AO6,"Half Day"))
A7: =IF(Employees!A7="","",Employees!A7) | B7: =IF($A7="","",Employees!B7) | C7: =IF($A7="","",Employees!C7) | D7: =IF($A7="","",Employees!K7) | E7: =IF(OR($A7="",$D7<>"Yes"),"",NETWORKDAYS.INTL(MAX(Employees!$D7,ReportMonth),EOMONTH(ReportMonth,0),WeekendCode,HolidayDates)) | F7: =IF($A7="","",COUNTIF($K7:$AO7,"Present")+0.5*COUNTIF($K7:$AO7,"Half Day")) | G7: =IF($A7="","",COUNTIF($K7:$AO7,"Absent")) | H7: =IF($A7="","",COUNTIF($K7:$AO7,"Sick Leave")) | I7: =IF($A7="","",COUNTIF($K7:$AO7,"Annual Leave")) | J7: =IF($A7="","",COUNTIF($K7:$AO7,"Half Day"))
A8: =IF(Employees!A8="","",Employees!A8) | B8: =IF($A8="","",Employees!B8) | C8: =IF($A8="","",Employees!C8) | D8: =IF($A8="","",Employees!K8) | E8: =IF(OR($A8="",$D8<>"Yes"),"",NETWORKDAYS.INTL(MAX(Employees!$D8,ReportMonth),EOMONTH(ReportMonth,0),WeekendCode,HolidayDates)) | F8: =IF($A8="","",COUNTIF($K8:$AO8,"Present")+0.5*COUNTIF($K8:$AO8,"Half Day")) | G8: =IF($A8="","",COUNTIF($K8:$AO8,"Absent")) | H8: =IF($A8="","",COUNTIF($K8:$AO8,"Sick Leave")) | I8: =IF($A8="","",COUNTIF($K8:$AO8,"Annual Leave")) | J8: =IF($A8="","",COUNTIF($K8:$AO8,"Half Day"))
A9: =IF(Employees!A9="","",Employees!A9) | B9: =IF($A9="","",Employees!B9) | C9: =IF($A9="","",Employees!C9) | D9: =IF($A9="","",Employees!K9) | E9: =IF(OR($A9="",$D9<>"Yes"),"",NETWORKDAYS.INTL(MAX(Employees!$D9,ReportMonth),EOMONTH(ReportMonth,0),WeekendCode,HolidayDates)) | F9: =IF($A9="","",COUNTIF($K9:$AO9,"Present")+0.5*COUNTIF($K9:$AO9,"Half Day")) | G9: =IF($A9="","",COUNTIF($K9:$AO9,"Absent")) | H9: =IF($A9="","",COUNTIF($K9:$AO9,"Sick Leave")) | I9: =IF($A9="","",COUNTIF($K9:$AO9,"Annual Leave")) | J9: =IF($A9="","",COUNTIF($K9:$AO9,"Half Day"))
A10: =IF(Employees!A10="","",Employees!A10) | B10: =IF($A10="","",Employees!B10) | C10: =IF($A10="","",Employees!C10) | D10: =IF($A10="","",Employees!K10) | E10: =IF(OR($A10="",$D10<>"Yes"),"",NETWORKDAYS.INTL(MAX(Employees!$D10,ReportMonth),EOMONTH(ReportMonth,0),WeekendCode,HolidayDates)) | F10: =IF($A10="","",COUNTIF($K10:$AO10,"Present")+0.5*COUNTIF($K10:$AO10,"Half Day")) | G10: =IF($A10="","",COUNTIF($K10:$AO10,"Absent")) | H10: =IF($A10="","",COUNTIF($K10:$AO10,"Sick Leave")) | I10: =IF($A10="","",COUNTIF($K10:$AO10,"Annual Leave")) | J10: =IF($A10="","",COUNTIF($K10:$AO10,"Half Day"))
A11: =IF(Employees!A11="","",Employees!A11) | B11: =IF($A11="","",Employees!B11) | C11: =IF($A11="","",Employees!C11) | D11: =IF($A11="","",Employees!K11) | E11: =IF(OR($A11="",$D11<>"Yes"),"",NETWORKDAYS.INTL(MAX(Employees!$D11,ReportMonth),EOMONTH(ReportMonth,0),WeekendCode,HolidayDates)) | F11: =IF($A11="","",COUNTIF($K11:$AO11,"Present")+0.5*COUNTIF($K11:$AO11,"Half Day")) | G11: =IF($A11="","",COUNTIF($K11:$AO11,"Absent")) | H11: =IF($A11="","",COUNTIF($K11:$AO11,"Sick Leave")) | I11: =IF($A11="","",COUNTIF($K11:$AO11,"Annual Leave")) | J11: =IF($A11="","",COUNTIF($K11:$AO11,"Half Day"))
A12: =IF(Employees!A12="","",Employees!A12) | B12: =IF($A12="","",Employees!B12) | C12: =IF($A12="","",Employees!C12) | D12: =IF($A12="","",Employees!K12) | E12: =IF(OR($A12="",$D12<>"Yes"),"",NETWORKDAYS.INTL(MAX(Employees!$D12,ReportMonth),EOMONTH(ReportMonth,0),WeekendCode,HolidayDates)) | F12: =IF($A12="","",COUNTIF($K12:$AO12,"Present")+0.5*COUNTIF($K12:$AO12,"Half Day")) | G12: =IF($A12="","",COUNTIF($K12:$AO12,"Absent")) | H12: =IF($A12="","",COUNTIF($K12:$AO12,"Sick Leave")) | I12: =IF($A12="","",COUNTIF($K12:$AO12,"Annual Leave")) | J12: =IF($A12="","",COUNTIF($K12:$AO12,"Half Day"))
A13: =IF(Employees!A13="","",Employees!A13) | B13: =IF($A13="","",Employees!B13) | C13: =IF($A13="","",Employees!C13) | D13: =IF($A13="","",Employees!K13) | E13: =IF(OR($A13="",$D13<>"Yes"),"",NETWORKDAYS.INTL(MAX(Employees!$D13,ReportMonth),EOMONTH(ReportMonth,0),WeekendCode,HolidayDates)) | F13: =IF($A13="","",COUNTIF($K13:$AO13,"Present")+0.5*COUNTIF($K13:$AO13,"Half Day")) | G13: =IF($A13="","",COUNTIF($K13:$AO13,"Absent")) | H13: =IF($A13="","",COUNTIF($K13:$AO13,"Sick Leave")) | I13: =IF($A13="","",COUNTIF($K13:$AO13,"Annual Leave")) | J13: =IF($A13="","",COUNTIF($K13:$AO13,"Half Day"))
A14: =IF(Employees!A14="","",Employees!A14) | B14: =IF($A14="","",Employees!B14) | C14: =IF($A14="","",Employees!C14) | D14: =IF($A14="","",Employees!K14) | E14: =IF(OR($A14="",$D14<>"Yes"),"",NETWORKDAYS.INTL(MAX(Employees!$D14,ReportMonth),EOMONTH(ReportMonth,0),WeekendCode,HolidayDates)) | F14: =IF($A14="","",COUNTIF($K14:$AO14,"Present")+0.5*COUNTIF($K14:$AO14,"Half Day")) | G14: =IF($A14="","",COUNTIF($K14:$AO14,"Absent")) | H14: =IF($A14="","",COUNTIF($K14:$AO14,"Sick Leave")) | I14: =IF($A14="","",COUNTIF($K14:$AO14,"Annual Leave")) | J14: =IF($A14="","",COUNTIF($K14:$AO14,"Half Day"))
A15: =IF(Employees!A15="","",Employees!A15) | B15: =IF($A15="","",Employees!B15) | C15: =IF($A15="","",Employees!C15) | D15: =IF($A15="","",Employees!K15) | E15: =IF(OR($A15="",$D15<>"Yes"),"",NETWORKDAYS.INTL(MAX(Employees!$D15,ReportMonth),EOMONTH(ReportMonth,0),WeekendCode,HolidayDates)) | F15: =IF($A15="","",COUNTIF($K15:$AO15,"Present")+0.5*COUNTIF($K15:$AO15,"Half Day")) | G15: =IF($A15="","",COUNTIF($K15:$AO15,"Absent")) | H15: =IF($A15="","",COUNTIF($K15:$AO15,"Sick Leave")) | I15: =IF($A15="","",COUNTIF($K15:$AO15,"Annual Leave")) | J15: =IF($A15="","",COUNTIF($K15:$AO15,"Half Day"))
A16: =IF(Employees!A16="","",Employees!A16) | B16: =IF($A16="","",Employees!B16) | C16: =IF($A16="","",Employees!C16) | D16: =IF($A16="","",Employees!K16) | E16: =IF(OR($A16="",$D16<>"Yes"),"",NETWORKDAYS.INTL(MAX(Employees!$D16,ReportMonth),EOMONTH(ReportMonth,0),WeekendCode,HolidayDates)) | F16: =IF($A16="","",COUNTIF($K16:$AO16,"Present")+0.5*COUNTIF($K16:$AO16,"Half Day")) | G16: =IF($A16="","",COUNTIF($K16:$AO16,"Absent")) | H16: =IF($A16="","",COUNTIF($K16:$AO16,"Sick Leave")) | I16: =IF($A16="","",COUNTIF($K16:$AO16,"Annual Leave")) | J16: =IF($A16="","",COUNTIF($K16:$AO16,"Half Day"))
... A104: =IF(Employees!A104="","",Employees!A104) | B104: =IF($A104="","",Employees!B104) | C104: =IF($A104="","",Employees!C104) | D104: =IF($A104="","",Employees!K104) | E104: =IF(OR($A104="",$D104<>"Yes"),"",NETWORKDAYS.INTL(MAX(Employees!$D104,ReportMonth),EOMONTH(ReportMonth,0),WeekendCode,HolidayDates)) | F104: =IF($A104="","",COUNTIF($K104:$AO104,"Present")+0.5*COUNTIF($K104:$AO104,"Half Day")) | G104: =IF($A104="","",COUNTIF($K104:$AO104,"Absent")) | H104: =IF($A104="","",COUNTIF($K104:$AO104,"Sick Leave")) | I104: =IF($A104="","",COUNTIF($K104:$AO104,"Annual Leave")) | J104: =IF($A104="","",COUNTIF($K104:$AO104,"Half Day"))

Sheet Dashboard
A1: EXECUTIVE MONTHLY DASHBOARD
A2: ="Attendance and leave overview for "&TEXT(ReportMonth,"mmmm yyyy") -> Attendance and leave overview for September 2026
A4: ACTIVE STAFF | C4: WORKING DAYS | E4: ATTENDANCE RATE | G4: LEAVE DAYS
A5: =COUNTIFS(Employees!$K$5:$K$104,"Yes",Employees!$A$5:$A$104,"<>") -> 0 | C5: =NETWORKDAYS.INTL(ReportMonth,EOMONTH(ReportMonth,0),WeekendCode,HolidayDates) -> 22 | E5: =IFERROR(SUM(Attendance!$F$5:$F$104)/SUM(Attendance!$E$5:$E$104),0) -> 0 | G5: =SUM(Attendance!$H$5:$H$104)+SUM(Attendance!$I$5:$I$104)+0.5*SUM(Attendance!$J$5:$J$104) -> 0
A8: STORY IN BRIEF
A9: ="For "&TEXT(ReportMonth,"mmmm yyyy")&", the tracker covers "&TEXT(COUNTIFS(Employees!$K$5:$K$104,"Yes",Employees!$A$5:$A$104,"<>"),"0")&" active employees. Recorded attendance equals "&TEXT(IFERROR(SUM(Attendance!$F$5:$F$104)/SUM(Attendance!$E$5:$E$104),0),"0.0%")&" of available working days. Total recorded sick, annual, and half-day leave is "&TEXT(SUM(Attendance!$H$5:$H$104)+SUM(Attendance!$I$5:$I$104)+0.5*SUM(Attendance!$J$5:$J$104),"0.0")&" days. Use the department table below to identify where absences or leave are concentrated." -> For September 2026, the tracker covers 0 active employees. Recorded attendance equals 0.0% of available working days. Total recorded sick, annual, and half-day leave is 0.0 days. Use the department table below to identify where absences or leave are concentrated.
A13: MONTHLY STATUS MIX
A14: Status | B14: Days
A15: Present | B15: =SUM(Attendance!$F$5:$F$104)-0.5*SUM(Attendance!$J$5:$J$104) -> 0
A16: Absent | B16: =SUM(Attendance!$G$5:$G$104) -> 0
A17: Sick Leave | B17: =SUM(Attendance!$H$5:$H$104) -> 0
A18: Annual Leave | B18: =SUM(Attendance!$I$5:$I$104) -> 0
A19: Half Day | B19: =0.5*SUM(Attendance!$J$5:$J$104) -> 0
A32: DEPARTMENT BREAKDOWN
A33: Department | B33: Headcount | C33: Worked Days | D33: Absent | E33: Sick Leave | F33: Annual Leave
A34: =Setup!G14 -> Administration | B34: =COUNTIFS(Employees!$C$5:$C$104,$A34,Employees!$K$5:$K$104,"Yes") -> 0 | C34: =SUMIFS(Attendance!$F$5:$F$104,Attendance!$C$5:$C$104,$A34) -> 0 | D34: =SUMIFS(Attendance!$G$5:$G$104,Attendance!$C$5:$C$104,$A34) -> 0 | E34: =SUMIFS(Attendance!$H$5:$H$104,Attendance!$C$5:$C$104,$A34) -> 0 | F34: =SUMIFS(Attendance!$I$5:$I$104,Attendance!$C$5:$C$104,$A34) -> 0
A35: =Setup!G15 -> Finance | B35: =COUNTIFS(Employees!$C$5:$C$104,$A35,Employees!$K$5:$K$104,"Yes") -> 0 | C35: =SUMIFS(Attendance!$F$5:$F$104,Attendance!$C$5:$C$104,$A35) -> 0 | D35: =SUMIFS(Attendance!$G$5:$G$104,Attendance!$C$5:$C$104,$A35) -> 0 | E35: =SUMIFS(Attendance!$H$5:$H$104,Attendance!$C$5:$C$104,$A35) -> 0 | F35: =SUMIFS(Attendance!$I$5:$I$104,Attendance!$C$5:$C$104,$A35) -> 0
A36: =Setup!G16 -> Human Resources | B36: =COUNTIFS(Employees!$C$5:$C$104,$A36,Employees!$K$5:$K$104,"Yes") -> 0 | C36: =SUMIFS(Attendance!$F$5:$F$104,Attendance!$C$5:$C$104,$A36) -> 0 | D36: =SUMIFS(Attendance!$G$5:$G$104,Attendance!$C$5:$C$104,$A36) -> 0 | E36: =SUMIFS(Attendance!$H$5:$H$104,Attendance!$C$5:$C$104,$A36) -> 0 | F36: =SUMIFS(Attendance!$I$5:$I$104,Attendance!$C$5:$C$104,$A36) -> 0
A37: =Setup!G17 -> IT | B37: =COUNTIFS(Employees!$C$5:$C$104,$A37,Employees!$K$5:$K$104,"Yes") -> 0 | C37: =SUMIFS(Attendance!$F$5:$F$104,Attendance!$C$5:$C$104,$A37) -> 0 | D37: =SUMIFS(Attendance!$G$5:$G$104,Attendance!$C$5:$C$104,$A37) -> 0 | E37: =SUMIFS(Attendance!$H$5:$H$104,Attendance!$C$5:$C$104,$A37) -> 0 | F37: =SUMIFS(Attendance!$I$5:$I$104,Attendance!$C$5:$C$104,$A37) -> 0
A38: =Setup!G18 -> Operations | B38: =COUNTIFS(Employees!$C$5:$C$104,$A38,Employees!$K$5:$K$104,"Yes") -> 0 | C38: =SUMIFS(Attendance!$F$5:$F$104,Attendance!$C$5:$C$104,$A38) -> 0 | D38: =SUMIFS(Attendance!$G$5:$G$104,Attendance!$C$5:$C$104,$A38) -> 0 | E38: =SUMIFS(Attendance!$H$5:$H$104,Attendance!$C$5:$C$104,$A38) -> 0 | F38: =SUMIFS(Attendance!$I$5:$I$104,Attendance!$C$5:$C$104,$A38) -> 0
A39: =Setup!G19 -> Sales | B39: =COUNTIFS(Employees!$C$5:$C$104,$A39,Employees!$K$5:$K$104,"Yes") -> 0 | C39: =SUMIFS(Attendance!$F$5:$F$104,Attendance!$C$5:$C$104,$A39) -> 0 | D39: =SUMIFS(Attendance!$G$5:$G$104,Attendance!$C$5:$C$104,$A39) -> 0 | E39: =SUMIFS(Attendance!$H$5:$H$104,Attendance!$C$5:$C$104,$A39) -> 0 | F39: =SUMIFS(Attendance!$I$5:$I$104,Attendance!$C$5:$C$104,$A39) -> 0
A40: =Setup!G20 -> Marketing | B40: =COUNTIFS(Employees!$C$5:$C$104,$A40,Employees!$K$5:$K$104,"Yes") -> 0 | C40: =SUMIFS(Attendance!$F$5:$F$104,Attendance!$C$5:$C$104,$A40) -> 0 | D40: =SUMIFS(Attendance!$G$5:$G$104,Attendance!$C$5:$C$104,$A40) -> 0 | E40: =SUMIFS(Attendance!$H$5:$H$104,Attendance!$C$5:$C$104,$A40) -> 0 | F40: =SUMIFS(Attendance!$I$5:$I$104,Attendance!$C$5:$C$104,$A40) -> 0
A41: =Setup!G21 -> Customer Service | B41: =COUNTIFS(Employees!$C$5:$C$104,$A41,Employees!$K$5:$K$104,"Yes") -> 0 | C41: =SUMIFS(Attendance!$F$5:$F$104,Attendance!$C$5:$C$104,$A41) -> 0 | D41: =SUMIFS(Attendance!$G$5:$G$104,Attendance!$C$5:$C$104,$A41) -> 0 | E41: =SUMIFS(Attendance!$H$5:$H$104,Attendance!$C$5:$C$104,$A41) -> 0 | F41: =SUMIFS(Attendance!$I$5:$I$104,Attendance!$C$5:$C$104,$A41) -> 0
A42: =Setup!G22 -> Procurement | B42: =COUNTIFS(Employees!$C$5:$C$104,$A42,Employees!$K$5:$K$104,"Yes") -> 0 | C42: =SUMIFS(Attendance!$F$5:$F$104,Attendance!$C$5:$C$104,$A42) -> 0 | D42: =SUMIFS(Attendance!$G$5:$G$104,Attendance!$C$5:$C$104,$A42) -> 0 | E42: =SUMIFS(Attendance!$H$5:$H$104,Attendance!$C$5:$C$104,$A42) -> 0 | F42: =SUMIFS(Attendance!$I$5:$I$104,Attendance!$C$5:$C$104,$A42) -> 0
A43: =Setup!G23 -> Other | B43: =COUNTIFS(Employees!$C$5:$C$104,$A43,Employees!$K$5:$K$104,"Yes") -> 0 | C43: =SUMIFS(Attendance!$F$5:$F$104,Attendance!$C$5:$C$104,$A43) -> 0 | D43: =SUMIFS(Attendance!$G$5:$G$104,Attendance!$C$5:$C$104,$A43) -> 0 | E43: =SUMIFS(Attendance!$H$5:$H$104,Attendance!$C$5:$C$104,$A43) -> 0 | F43: =SUMIFS(Attendance!$I$5:$I$104,Attendance!$C$5:$C$104,$A43) -> 0
A44: TOTAL | B44: =SUM(B34:B43) -> 0 | C44: =SUM(C34:C43) -> 0 | D44: =SUM(D34:D43) -> 0 | E44: =SUM(E34:E43) -> 0 | F44: =SUM(F34:F43) -> 0
